{"text_format":"3","workbook":"xlsx","n_sheets":5,"sheets":["Výstup","Zadání","Export","Prezence","Sestava kompatibility"],"read":"whole","date_system":"1900"}

{"sheet":"Výstup","index":0,"n_rows":85,"n_cols":15,"rows_kept":85,"merged":[[3,3,3,6],[3,7,3,10],[3,11,3,14]]}
["Krajský přebor MPK - 2026"]
["Muži",{"$nulls":13},"1 x 120 hs"]
["Datum: 24. 1. 2026",{"$nulls":13},"Kuželna: SKK Rokycany"]
["Kombinace",null,null,"Kvalifikace",{"$nulls":3},"Finále",{"$nulls":3},"Celkem"]
["Poř","Jméno","Oddíl","Pl","Do","Ch","Cel","Pl","Do","Ch","Cel","Pl","Do","Ch","Cel"]
[1,"Michael Kotal","TJ Sokol Zahořany",409,238,1,647,{"$nulls":4},{"$f":"D6+H6","v":409},{"$f":"E6+I6","v":238},{"$f":"F6+J6","v":1},{"$f":"G6+K6","v":647}]
[2,"Milan Svoboda","CB Dobřany",381,228,2,609,{"$nulls":4},{"$f":"D7+H7","v":381},{"$f":"E7+I7","v":228},{"$f":"F7+J7","v":2},{"$f":"G7+K7","v":609}]
[3,"Milan Wagner","TJ Sokol Plzeň V",391,213,1,604,{"$nulls":4},{"$f":"D8+H8","v":391},{"$f":"E8+I8","v":213},{"$f":"F8+J8","v":1},{"$f":"G8+K8","v":604}]
[4,"Jiří Baloun","CB Dobřany",378,209,3,587,{"$nulls":4},{"$f":"D9+H9","v":378},{"$f":"E9+I9","v":209},{"$f":"F9+J9","v":3},{"$f":"G9+K9","v":587}]
[5,"Jaroslav Pejsar","TJ Sokol Plzeň V",384,179,8,563,{"$nulls":4},{"$f":"D10+H10","v":384},{"$f":"E10+I10","v":179},{"$f":"F10+J10","v":8},{"$f":"G10+K10","v":563}]
[6,"Filip Löffelmann","TJ Sokol Kdyně",363,199,2,562,{"$nulls":4},{"$f":"D11+H11","v":363},{"$f":"E11+I11","v":199},{"$f":"F11+J11","v":2},{"$f":"G11+K11","v":562}]
[7,"Vojtěch Špelina","SKK Rokycany",376,184,0,560,{"$nulls":4},{"$f":"D12+H12","v":376},{"$f":"E12+I12","v":184},{"$f":"F12+J12","v":0},{"$f":"G12+K12","v":560}]
[8,"Roman Pytlík","SKK Rokycany",364,194,2,558,{"$nulls":4},{"$f":"D13+H13","v":364},{"$f":"E13+I13","v":194},{"$f":"F13+J13","v":2},{"$f":"G13+K13","v":558}]
[9,"Michael Martínek","TJ Sokol Zahořany",371,186,5,557,{"$nulls":4},{"$f":"D14+H14","v":371},{"$f":"E14+I14","v":186},{"$f":"F14+J14","v":5},{"$f":"G14+K14","v":557}]
[10,"Michal Šneberger","CB Dobřany",379,177,4,556,{"$nulls":4},{"$f":"D15+H15","v":379},{"$f":"E15+I15","v":177},{"$f":"F15+J15","v":4},{"$f":"G15+K15","v":556}]
[11,"Jan Vacikar","SK Škoda VS Plzeň",383,173,9,556,{"$nulls":4},{"$f":"D16+H16","v":383},{"$f":"E16+I16","v":173},{"$f":"F16+J16","v":9},{"$f":"G16+K16","v":556}]
[12,"Michal Novosad","TJ Slavoj Plzeň",371,177,4,548,{"$nulls":4},{"$f":"D17+H17","v":371},{"$f":"E17+I17","v":177},{"$f":"F17+J17","v":4},{"$f":"G17+K17","v":548}]
[13,"Roman Drugda","TJ Slavoj Plzeň",374,172,10,546,{"$nulls":4},{"$f":"D18+H18","v":374},{"$f":"E18+I18","v":172},{"$f":"F18+J18","v":10},{"$f":"G18+K18","v":546}]
[14,"Miloš Černohorský","SK Škoda VS Plzeň",366,179,3,545,{"$nulls":4},{"$f":"D19+H19","v":366},{"$f":"E19+I19","v":179},{"$f":"F19+J19","v":3},{"$f":"G19+K19","v":545}]
[15,"Tomáš Timura","TJ Sokol Kdyně",367,177,4,544,{"$nulls":4},{"$f":"D20+H20","v":367},{"$f":"E20+I20","v":177},{"$f":"F20+J20","v":4},{"$f":"G20+K20","v":544}]
[16,"Václav Loukotka","TJ Slavoj Plzeň",377,166,4,543,{"$nulls":4},{"$f":"D21+H21","v":377},{"$f":"E21+I21","v":166},{"$f":"F21+J21","v":4},{"$f":"G21+K21","v":543}]
[17,"Libor Bureš","SKK Rokycany",354,187,5,541,{"$nulls":4},{"$f":"D22+H22","v":354},{"$f":"E22+I22","v":187},{"$f":"F22+J22","v":5},{"$f":"G22+K22","v":541}]
[18,"Josef Fišer ml.","CB Dobřany",366,170,5,536,{"$nulls":4},{"$f":"D23+H23","v":366},{"$f":"E23+I23","v":170},{"$f":"F23+J23","v":5},{"$f":"G23+K23","v":536}]
[19,"Jan Myslík","Kuželky Holýšov",369,165,2,534,{"$nulls":4},{"$f":"D24+H24","v":369},{"$f":"E24+I24","v":165},{"$f":"F24+J24","v":2},{"$f":"G24+K24","v":534}]
[20,"Roman Janota","TJ Přeštice",359,171,8,530,{"$nulls":4},{"$f":"D25+H25","v":359},{"$f":"E25+I25","v":171},{"$f":"F25+J25","v":8},{"$f":"G25+K25","v":530}]
[21,"Bedřich Horka","Kuželky Holýšov",342,184,5,526,{"$nulls":4},{"$f":"D26+H26","v":342},{"$f":"E26+I26","v":184},{"$f":"F26+J26","v":5},{"$f":"G26+K26","v":526}]
[22,"Petr Fara","SKK Rokycany",358,165,3,523,{"$nulls":4},{"$f":"D27+H27","v":358},{"$f":"E27+I27","v":165},{"$f":"F27+J27","v":3},{"$f":"G27+K27","v":523}]
[23,"Roman Pivoňka","TJ Sokol Újezd sv. Kříže",372,149,11,521,{"$nulls":4},{"$f":"D28+H28","v":372},{"$f":"E28+I28","v":149},{"$f":"F28+J28","v":11},{"$f":"G28+K28","v":521}]
[24,"Tomáš Vrba","TJ Sokol Pec pod Čerchovem",355,164,7,519,{"$nulls":4},{"$f":"D29+H29","v":355},{"$f":"E29+I29","v":164},{"$f":"F29+J29","v":7},{"$f":"G29+K29","v":519}]
[25,"Jaromír Kotas","TJ Slavoj Plzeň",353,149,8,502]
[26,"Zdeněk Eichler","CB Dobřany",339,161,11,500]
[27,"Michal Lohr","TJ Dobřany",340,159,5,499]
[28,"Tomáš Lukeš","Kuželky Holýšov",335,163,5,498]
[29,"Jakub Solfronk","TJ Dobřany",346,150,7,496]
[30,"Jan Valdman","TJ Sokol Plzeň V",347,138,10,485]
[31,"Karel Řezníček","TJ Sokol Díly",349,126,12,475]
[32,"David Grössl","TJ Sokol Zahořany",336,136,10,472]
[33]
[34]
[35]
[36]
[37]
[38]
[39]
[40]
[41]
[42]
[43]
[44]
[45]
[46]
[47]
[48]
[]
[]
[]
["Finále"]
["Muži"]
["Datum: 25. 1. 2026",{"$nulls":5},"Kuželna: SKK Rokycany"]
["120 hs"]
["Poř","Jméno","Oddíl","Pl","Do","Ch","Cel"]
[1]
[2,"Václav Loukotka","TJ Slavoj Plzeň",0,0,0,0]
[3,"Tomáš Timura","TJ Sokol Kdyně",0,0,0,0]
[4,"Miloš Černohorský","SK Škoda VS Plzeň",0,0,0,0]
[5,"Roman Drugda","TJ Slavoj Plzeň",0,0,0,0]
[6,"Michal Novosad","TJ Slavoj Plzeň",0,0,0,0]
[7,"Jan Vacikar","SK Škoda VS Plzeň",0,0,0,0]
[8,"Michal Šneberger","CB Dobřany",0,0,0,0]
[9,"Michael Martínek","TJ Sokol Zahořany",0,0,0,0]
[10,"Roman Pytlík","SKK Rokycany",0,0,0,0]
[11,"Vojtěch Špelina","SKK Rokycany",0,0,0,0]
[12,"Filip Löffelmann","TJ Sokol Kdyně",0,0,0,0]
[13,"Jaroslav Pejsar","TJ Sokol Plzeň V",0,0,0,0]
[14,"Jiří Baloun","CB Dobřany",0,0,0,0]
[15,"Milan Wagner","TJ Sokol Plzeň V",0,0,0,0]
[16,"Milan Svoboda","CB Dobřany",0,0,0,0]
[17,"Michael Kotal","TJ Sokol Zahořany",0,0,0,0]
[18]
[19]
[20]
[21]
[22]
[23]
[24]

{"sheet":"Zadání","index":1,"n_rows":295,"n_cols":20,"rows_kept":295,"merged":[[3,0,6,0],[3,1,6,1],[3,2,6,2],[7,0,10,0],[7,1,10,1],[7,2,10,2],[11,0,14,0],[11,1,14,1],[11,2,14,2],[15,0,18,0],[15,1,18,1],[15,2,18,2],[19,0,22,0],[19,1,22,1],[19,2,22,2],[23,0,26,0],[23,1,26,1],[23,2,26,2],[27,0,30,0],[27,1,30,1],[27,2,30,2],[31,0,34,0],[31,1,34,1],[31,2,34,2],[35,0,38,0],[35,1,38,1],[35,2,38,2],[39,0,42,0],[39,1,42,1],[39,2,42,2],[43,0,46,0],[43,1,46,1],[43,2,46,2],[47,0,50,0],[47,1,50,1],[47,2,50,2],[51,0,54,0],[51,1,54,1],[51,2,54,2],[55,0,58,0],[55,1,58,1],[55,2,58,2],[59,0,62,0],[59,1,62,1],[59,2,62,2],[63,0,66,0],[63,1,66,1],[63,2,66,2],[67,0,70,0],[67,1,70,1],[67,2,70,2],[71,0,74,0],[71,1,74,1],[71,2,74,2],[75,0,78,0],[75,1,78,1],[75,2,78,2],[79,0,82,0],[79,1,82,1],[79,2,82,2],[83,0,86,0],[83,1,86,1],[83,2,86,2],[87,0,90,0],[87,1,90,1],[87,2,90,2],[91,0,94,0],[91,1,94,1],[91,2,94,2],[95,0,98,0],[95,1,98,1],[95,2,98,2],[99,0,102,0],[99,1,102,1],[99,2,102,2],[103,0,106,0],[103,1,106,1],[103,2,106,2],[107,0,110,0],[107,1,110,1],[107,2,110,2],[111,0,114,0],[111,1,114,1],[111,2,114,2],[115,0,118,0],[115,1,118,1],[115,2,118,2],[119,0,122,0],[119,1,122,1],[119,2,122,2],[123,0,126,0],[123,1,126,1],[123,2,126,2],[127,0,130,0],[127,1,130,1],[127,2,130,2],[131,0,134,0],[131,1,134,1],[131,2,134,2],[135,0,138,0],[135,1,138,1],[135,2,138,2],[139,0,142,0],[139,1,142,1],[139,2,142,2],[143,0,146,0],[143,1,146,1],[143,2,146,2],[147,0,150,0],[147,1,150,1],[147,2,150,2],[151,0,154,0],[151,1,154,1],[151,2,154,2],[155,0,158,0],[155,1,158,1],[155,2,158,2],[159,0,162,0],[159,1,162,1],[159,2,162,2],[163,0,166,0],[163,1,166,1],[163,2,166,2],[167,0,170,0],[167,1,170,1],[167,2,170,2],[171,0,174,0],[171,1,174,1],[171,2,174,2],[175,0,178,0],[175,1,178,1],[175,2,178,2],[179,0,182,0],[179,1,182,1],[179,2,182,2],[183,0,186,0],[183,1,186,1],[183,2,186,2],[187,0,190,0],[187,1,190,1],[187,2,190,2],[191,0,194,0],[191,1,194,1],[191,2,194,2],[197,0,200,0],[197,1,200,1],[197,2,200,2],[201,0,204,0],[201,1,204,1],[201,2,204,2],[205,0,208,0],[205,1,208,1],[205,2,208,2],[209,0,212,0],[209,1,212,1],[209,2,212,2],[213,0,216,0],[213,1,216,1],[213,2,216,2],[217,0,220,0],[217,1,220,1],[217,2,220,2],[221,0,224,0],[221,1,224,1],[221,2,224,2],[225,0,228,0],[225,1,228,1],[225,2,228,2],[229,0,232,0],[229,1,232,1],[229,2,232,2],[233,0,236,0],[233,1,236,1],[233,2,236,2],[237,0,240,0],[237,1,240,1],[237,2,240,2],[241,0,244,0],[241,1,244,1],[241,2,244,2],[245,0,248,0],[245,1,248,1],[245,2,248,2],[249,0,252,0],[249,1,252,1],[249,2,252,2],[253,0,256,0],[253,1,256,1],[253,2,256,2],[257,0,260,0],[257,1,260,1],[257,2,260,2],[261,0,264,0],[261,1,264,1],[261,2,264,2],[265,0,268,0],[265,1,268,1],[265,2,268,2],[269,0,272,0],[269,1,272,1],[269,2,272,2],[273,0,276,0],[273,1,276,1],[273,2,276,2],[277,0,280,0],[277,1,280,1],[277,2,280,2],[281,0,284,0],[281,1,284,1],[281,2,284,2],[285,0,288,0],[285,1,288,1],[285,2,288,2],[289,0,292,0],[289,1,292,1],[289,2,292,2]]}
["Muži"]
["Kvalifikace"]
["Č","Jméno","Oddíl","Pl","Do","Ch","Cel","Pl","Do","Ch","Cel"]
[1,{"$f":"Prezence!B2","v":"Roman Pytlík"},{"$f":"Prezence!C2","v":"SKK Rokycany"},93,52,1,{"$f":"D4+E4","v":145},{"$f":"SUM(D4:D7)","v":364},{"$f":"SUM(E4:E7)","v":194},{"$f":"SUM(F4:F7)","v":2},{"$f":"SUM(G4:G7)","v":558},null,{"$f":"B4","v":"Roman Pytlík"},{"$f":"C4","v":"SKK Rokycany"},{"$f":"H4","v":364},{"$f":"I4","v":194},{"$f":"J4","v":2},{"$f":"K4","v":558},null,{"$f":"G4+G5","v":277}]
[{"$nulls":3},87,45,0,{"$f":"D5+E5","v":132}]
[{"$nulls":3},90,52,0,{"$f":"D6+E6","v":142},{"$nulls":3},"1-2-4-3",{"$nulls":8},{"$f":"G6+G7","v":281}]
[{"$nulls":3},94,45,1,{"$f":"D7+E7","v":139}]
[2,{"$f":"Prezence!B3","v":"Michal Šneberger"},{"$f":"Prezence!C3","v":"CB Dobřany"},97,35,2,{"$f":"D8+E8","v":132},{"$f":"SUM(D8:D11)","v":379},{"$f":"SUM(E8:E11)","v":177},{"$f":"SUM(F8:F11)","v":4},{"$f":"SUM(G8:G11)","v":556},null,{"$f":"B8","v":"Michal Šneberger"},{"$f":"C8","v":"CB Dobřany"},{"$f":"H8","v":379},{"$f":"I8","v":177},{"$f":"J8","v":4},{"$f":"K8","v":556},null,{"$f":"G8+G9","v":275}]
[{"$nulls":3},89,54,0,{"$f":"D9+E9","v":143}]
[{"$nulls":3},97,43,2,{"$f":"D10+E10","v":140},{"$nulls":3},"2-1-3-4",{"$nulls":8},{"$f":"G10+G11","v":281}]
[{"$nulls":3},96,45,0,{"$f":"D11+E11","v":141}]
[3,{"$f":"Prezence!B4","v":"Roman Drugda"},{"$f":"Prezence!C4","v":"TJ Slavoj Plzeň"},87,42,1,{"$f":"D12+E12","v":129},{"$f":"SUM(D12:D15)","v":374},{"$f":"SUM(E12:E15)","v":172},{"$f":"SUM(F12:F15)","v":10},{"$f":"SUM(G12:G15)","v":546},null,{"$f":"B12","v":"Roman Drugda"},{"$f":"C12","v":"TJ Slavoj Plzeň"},{"$f":"H12","v":374},{"$f":"I12","v":172},{"$f":"J12","v":10},{"$f":"K12","v":546},null,{"$f":"G12+G13","v":259}]
[{"$nulls":3},96,34,3,{"$f":"D13+E13","v":130}]
[{"$nulls":3},94,42,4,{"$f":"D14+E14","v":136},{"$nulls":3},"3-4-2-1",{"$nulls":8},{"$f":"G14+G15","v":287}]
[{"$nulls":3},97,54,2,{"$f":"D15+E15","v":151}]
[4,{"$f":"Prezence!B5","v":"Jan Valdman"},{"$f":"Prezence!C5","v":"TJ Sokol Plzeň V"},87,32,3,{"$f":"D16+E16","v":119},{"$f":"SUM(D16:D19)","v":347},{"$f":"SUM(E16:E19)","v":138},{"$f":"SUM(F16:F19)","v":10},{"$f":"SUM(G16:G19)","v":485},null,{"$f":"B16","v":"Jan Valdman"},{"$f":"C16","v":"TJ Sokol Plzeň V"},{"$f":"H16","v":347},{"$f":"I16","v":138},{"$f":"J16","v":10},{"$f":"K16","v":485},null,{"$f":"G16+G17","v":232}]
[{"$nulls":3},86,27,4,{"$f":"D17+E17","v":113}]
[{"$nulls":3},86,35,2,{"$f":"D18+E18","v":121},{"$nulls":3},"4-3-1-2",{"$nulls":8},{"$f":"G18+G19","v":253}]
[{"$nulls":3},88,44,1,{"$f":"D19+E19","v":132}]
[5,{"$f":"Prezence!B6","v":"Petr Fara"},{"$f":"Prezence!C6","v":"SKK Rokycany"},92,36,0,{"$f":"D20+E20","v":128},{"$f":"SUM(D20:D23)","v":358},{"$f":"SUM(E20:E23)","v":165},{"$f":"SUM(F20:F23)","v":3},{"$f":"SUM(G20:G23)","v":523},null,{"$f":"B20","v":"Petr Fara"},{"$f":"C20","v":"SKK Rokycany"},{"$f":"H20","v":358},{"$f":"I20","v":165},{"$f":"J20","v":3},{"$f":"K20","v":523},null,{"$f":"G20+G21","v":255}]
[{"$nulls":3},93,34,3,{"$f":"D21+E21","v":127}]
[{"$nulls":3},87,51,0,{"$f":"D22+E22","v":138},{"$nulls":3},"1-2-4-3",{"$nulls":8},{"$f":"G22+G23","v":268}]
[{"$nulls":3},86,44,0,{"$f":"D23+E23","v":130}]
[6,{"$f":"Prezence!B7","v":"Roman Janota"},{"$f":"Prezence!C7","v":"TJ Přeštice"},72,34,2,{"$f":"D24+E24","v":106},{"$f":"SUM(D24:D27)","v":359},{"$f":"SUM(E24:E27)","v":171},{"$f":"SUM(F24:F27)","v":8},{"$f":"SUM(G24:G27)","v":530},null,{"$f":"B24","v":"Roman Janota"},{"$f":"C24","v":"TJ Přeštice"},{"$f":"H24","v":359},{"$f":"I24","v":171},{"$f":"J24","v":8},{"$f":"K24","v":530},null,{"$f":"G24+G25","v":229}]
[{"$nulls":3},96,27,5,{"$f":"D25+E25","v":123}]
[{"$nulls":3},93,60,0,{"$f":"D26+E26","v":153},{"$nulls":3},"2-1-3-4",{"$nulls":8},{"$f":"G26+G27","v":301}]
[{"$nulls":3},98,50,1,{"$f":"D27+E27","v":148}]
[7,{"$f":"Prezence!B8","v":"Jakub Solfronk"},{"$f":"Prezence!C8","v":"TJ Dobřany"},83,44,1,{"$f":"D28+E28","v":127},{"$f":"SUM(D28:D31)","v":346},{"$f":"SUM(E28:E31)","v":150},{"$f":"SUM(F28:F31)","v":7},{"$f":"SUM(G28:G31)","v":496},null,{"$f":"B28","v":"Jakub Solfronk"},{"$f":"C28","v":"TJ Dobřany"},{"$f":"H28","v":346},{"$f":"I28","v":150},{"$f":"J28","v":7},{"$f":"K28","v":496},null,{"$f":"G28+G29","v":250}]
[{"$nulls":3},87,36,1,{"$f":"D29+E29","v":123}]
[{"$nulls":3},81,27,3,{"$f":"D30+E30","v":108},{"$nulls":3},"3-4-2-1",{"$nulls":8},{"$f":"G30+G31","v":246}]
[{"$nulls":3},95,43,2,{"$f":"D31+E31","v":138}]
[8,{"$f":"Prezence!B9","v":"Jan Myslík"},{"$f":"Prezence!C9","v":"Kuželky Holýšov"},96,42,0,{"$f":"D32+E32","v":138},{"$f":"SUM(D32:D35)","v":369},{"$f":"SUM(E32:E35)","v":165},{"$f":"SUM(F32:F35)","v":2},{"$f":"SUM(G32:G35)","v":534},null,{"$f":"B32","v":"Jan Myslík"},{"$f":"C32","v":"Kuželky Holýšov"},{"$f":"H32","v":369},{"$f":"I32","v":165},{"$f":"J32","v":2},{"$f":"K32","v":534},null,{"$f":"G32+G33","v":270}]
[{"$nulls":3},97,35,1,{"$f":"D33+E33","v":132}]
[{"$nulls":3},77,36,0,{"$f":"D34+E34","v":113},{"$nulls":3},"4-3-1-2",{"$nulls":8},{"$f":"G34+G35","v":264}]
[{"$nulls":3},99,52,1,{"$f":"D35+E35","v":151}]
[9,{"$f":"Prezence!B10","v":"Jan Vacikar"},{"$f":"Prezence!C10","v":"SK Škoda VS Plzeň"},104,44,2,{"$f":"D36+E36","v":148},{"$f":"SUM(D36:D39)","v":383},{"$f":"SUM(E36:E39)","v":173},{"$f":"SUM(F36:F39)","v":9},{"$f":"SUM(G36:G39)","v":556},null,{"$f":"B36","v":"Jan Vacikar"},{"$f":"C36","v":"SK Škoda VS Plzeň"},{"$f":"H36","v":383},{"$f":"I36","v":173},{"$f":"J36","v":9},{"$f":"K36","v":556},null,{"$f":"G36+G37","v":298}]
[{"$nulls":3},92,58,0,{"$f":"D37+E37","v":150}]
[{"$nulls":3},88,45,2,{"$f":"D38+E38","v":133},{"$nulls":3},"1-2-4-3",{"$nulls":8},{"$f":"G38+G39","v":258}]
[{"$nulls":3},99,26,5,{"$f":"D39+E39","v":125}]
[10,{"$f":"Prezence!B11","v":"Zdeněk Eichler"},{"$f":"Prezence!C11","v":"CB Dobřany"},84,34,5,{"$f":"D40+E40","v":118},{"$f":"SUM(D40:D43)","v":339},{"$f":"SUM(E40:E43)","v":161},{"$f":"SUM(F40:F43)","v":11},{"$f":"SUM(G40:G43)","v":500},null,{"$f":"B40","v":"Zdeněk Eichler"},{"$f":"C40","v":"CB Dobřany"},{"$f":"H40","v":339},{"$f":"I40","v":161},{"$f":"J40","v":11},{"$f":"K40","v":500},null,{"$f":"G40+G41","v":260}]
[{"$nulls":3},91,51,3,{"$f":"D41+E41","v":142}]
[{"$nulls":3},88,32,2,{"$f":"D42+E42","v":120},{"$nulls":3},"2-1-3-4",{"$nulls":8},{"$f":"G42+G43","v":240}]
[{"$nulls":3},76,44,1,{"$f":"D43+E43","v":120}]
[11,{"$f":"Prezence!B12","v":"Michal Novosad"},{"$f":"Prezence!C12","v":"TJ Slavoj Plzeň"},101,45,2,{"$f":"D44+E44","v":146},{"$f":"SUM(D44:D47)","v":371},{"$f":"SUM(E44:E47)","v":177},{"$f":"SUM(F44:F47)","v":4},{"$f":"SUM(G44:G47)","v":548},null,{"$f":"B44","v":"Michal Novosad"},{"$f":"C44","v":"TJ Slavoj Plzeň"},{"$f":"H44","v":371},{"$f":"I44","v":177},{"$f":"J44","v":4},{"$f":"K44","v":548},null,{"$f":"G44+G45","v":270}]
[{"$nulls":3},90,34,2,{"$f":"D45+E45","v":124}]
[{"$nulls":3},89,45,0,{"$f":"D46+E46","v":134},{"$nulls":3},"3-4-2-1",{"$nulls":8},{"$f":"G46+G47","v":278}]
[{"$nulls":3},91,53,0,{"$f":"D47+E47","v":144}]
[12,{"$f":"Prezence!B13","v":"Josef Fišer ml."},{"$f":"Prezence!C13","v":"CB Dobřany"},83,45,2,{"$f":"D48+E48","v":128},{"$f":"SUM(D48:D51)","v":366},{"$f":"SUM(E48:E51)","v":170},{"$f":"SUM(F48:F51)","v":5},{"$f":"SUM(G48:G51)","v":536},null,{"$f":"B48","v":"Josef Fišer ml."},{"$f":"C48","v":"CB Dobřany"},{"$f":"H48","v":366},{"$f":"I48","v":170},{"$f":"J48","v":5},{"$f":"K48","v":536},null,{"$f":"G48+G49","v":256}]
[{"$nulls":3},92,36,1,{"$f":"D49+E49","v":128}]
[{"$nulls":3},104,45,1,{"$f":"D50+E50","v":149},{"$nulls":3},"4-3-1-2",{"$nulls":8},{"$f":"G50+G51","v":280}]
[{"$nulls":3},87,44,1,{"$f":"D51+E51","v":131}]
[13,{"$f":"Prezence!B14","v":"Michal Lohr"},{"$f":"Prezence!C14","v":"TJ Dobřany"},93,27,3,{"$f":"D52+E52","v":120},{"$f":"SUM(D52:D55)","v":340},{"$f":"SUM(E52:E55)","v":159},{"$f":"SUM(F52:F55)","v":5},{"$f":"SUM(G52:G55)","v":499},null,{"$f":"B52","v":"Michal Lohr"},{"$f":"C52","v":"TJ Dobřany"},{"$f":"H52","v":340},{"$f":"I52","v":159},{"$f":"J52","v":5},{"$f":"K52","v":499},null,{"$f":"G52+G53","v":262}]
[{"$nulls":3},90,52,0,{"$f":"D53+E53","v":142}]
[{"$nulls":3},89,44,1,{"$f":"D54+E54","v":133},{"$nulls":3},"1-2-4-3",{"$nulls":8},{"$f":"G54+G55","v":237}]
[{"$nulls":3},68,36,1,{"$f":"D55+E55","v":104}]
[14,{"$f":"Prezence!B15","v":"Jiří Baloun"},{"$f":"Prezence!C15","v":"CB Dobřany"},93,50,0,{"$f":"D56+E56","v":143},{"$f":"SUM(D56:D59)","v":378},{"$f":"SUM(E56:E59)","v":209},{"$f":"SUM(F56:F59)","v":3},{"$f":"SUM(G56:G59)","v":587},null,{"$f":"B56","v":"Jiří Baloun"},{"$f":"C56","v":"CB Dobřany"},{"$f":"H56","v":378},{"$f":"I56","v":209},{"$f":"J56","v":3},{"$f":"K56","v":587},null,{"$f":"G56+G57","v":293}]
[{"$nulls":3},97,53,0,{"$f":"D57+E57","v":150}]
[{"$nulls":3},96,53,2,{"$f":"D58+E58","v":149},{"$nulls":3},"2-1-3-4",{"$nulls":8},{"$f":"G58+G59","v":294}]
[{"$nulls":3},92,53,1,{"$f":"D59+E59","v":145}]
[15,{"$f":"Prezence!B16","v":"Jaromír Kotas"},{"$f":"Prezence!C16","v":"TJ Slavoj Plzeň"},92,36,1,{"$f":"D60+E60","v":128},{"$f":"SUM(D60:D63)","v":353},{"$f":"SUM(E60:E63)","v":149},{"$f":"SUM(F60:F63)","v":8},{"$f":"SUM(G60:G63)","v":502},null,{"$f":"B60","v":"Jaromír Kotas"},{"$f":"C60","v":"TJ Slavoj Plzeň"},{"$f":"H60","v":353},{"$f":"I60","v":149},{"$f":"J60","v":8},{"$f":"K60","v":502},null,{"$f":"G60+G61","v":256}]
[{"$nulls":3},84,44,2,{"$f":"D61+E61","v":128}]
[{"$nulls":3},88,34,3,{"$f":"D62+E62","v":122},{"$nulls":3},"3-4-2-1",{"$nulls":8},{"$f":"G62+G63","v":246}]
[{"$nulls":3},89,35,2,{"$f":"D63+E63","v":124}]
[16,{"$f":"Prezence!B17","v":"Jaroslav Pejsar"},{"$f":"Prezence!C17","v":"TJ Sokol Plzeň V"},84,36,4,{"$f":"D64+E64","v":120},{"$f":"SUM(D64:D67)","v":384},{"$f":"SUM(E64:E67)","v":179},{"$f":"SUM(F64:F67)","v":8},{"$f":"SUM(G64:G67)","v":563},null,{"$f":"B64","v":"Jaroslav Pejsar"},{"$f":"C64","v":"TJ Sokol Plzeň V"},{"$f":"H64","v":384},{"$f":"I64","v":179},{"$f":"J64","v":8},{"$f":"K64","v":563},null,{"$f":"G64+G65","v":268}]
[{"$nulls":3},105,43,2,{"$f":"D65+E65","v":148}]
[{"$nulls":3},96,39,1,{"$f":"D66+E66","v":135},{"$nulls":3},"4-3-1-2",{"$nulls":8},{"$f":"G66+G67","v":295}]
[{"$nulls":3},99,61,1,{"$f":"D67+E67","v":160}]
[17,{"$f":"Prezence!B18","v":"Miloš Černohorský"},{"$f":"Prezence!C18","v":"SK Škoda VS Plzeň"},87,63,0,{"$f":"D68+E68","v":150},{"$f":"SUM(D68:D71)","v":366},{"$f":"SUM(E68:E71)","v":179},{"$f":"SUM(F68:F71)","v":3},{"$f":"SUM(G68:G71)","v":545},null,{"$f":"B68","v":"Miloš Černohorský"},{"$f":"C68","v":"SK Škoda VS Plzeň"},{"$f":"H68","v":366},{"$f":"I68","v":179},{"$f":"J68","v":3},{"$f":"K68","v":545},null,{"$f":"G68+G69","v":265}]
[{"$nulls":3},84,31,1,{"$f":"D69+E69","v":115}]
[{"$nulls":3},91,52,1,{"$f":"D70+E70","v":143},{"$nulls":3},"1-2-4-3",{"$nulls":8},{"$f":"G70+G71","v":280}]
[{"$nulls":3},104,33,1,{"$f":"D71+E71","v":137}]
[18,{"$f":"Prezence!B19","v":"Milan Wagner"},{"$f":"Prezence!C19","v":"TJ Sokol Plzeň V"},97,45,0,{"$f":"D72+E72","v":142},{"$f":"SUM(D72:D75)","v":391},{"$f":"SUM(E72:E75)","v":213},{"$f":"SUM(F72:F75)","v":1},{"$f":"SUM(G72:G75)","v":604},null,{"$f":"B72","v":"Milan Wagner"},{"$f":"C72","v":"TJ Sokol Plzeň V"},{"$f":"H72","v":391},{"$f":"I72","v":213},{"$f":"J72","v":1},{"$f":"K72","v":604},null,{"$f":"G72+G73","v":299}]
[{"$nulls":3},103,54,0,{"$f":"D73+E73","v":157}]
[{"$nulls":3},102,51,1,{"$f":"D74+E74","v":153},{"$nulls":3},"2-1-3-4",{"$nulls":8},{"$f":"G74+G75","v":305}]
[{"$nulls":3},89,63,0,{"$f":"D75+E75","v":152}]
[19,{"$f":"Prezence!B20","v":"Václav Loukotka"},{"$f":"Prezence!C20","v":"TJ Slavoj Plzeň"},87,41,2,{"$f":"D76+E76","v":128},{"$f":"SUM(D76:D79)","v":377},{"$f":"SUM(E76:E79)","v":166},{"$f":"SUM(F76:F79)","v":4},{"$f":"SUM(G76:G79)","v":543},null,{"$f":"B76","v":"Václav Loukotka"},{"$f":"C76","v":"TJ Slavoj Plzeň"},{"$f":"H76","v":377},{"$f":"I76","v":166},{"$f":"J76","v":4},{"$f":"K76","v":543},null,{"$f":"G76+G77","v":247}]
[{"$nulls":3},83,36,0,{"$f":"D77+E77","v":119}]
[{"$nulls":3},102,35,2,{"$f":"D78+E78","v":137},{"$nulls":3},"3-4-2-1",{"$nulls":8},{"$f":"G78+G79","v":296}]
[{"$nulls":3},105,54,0,{"$f":"D79+E79","v":159}]
[20,{"$f":"Prezence!B21","v":"Tomáš Vrba"},{"$f":"Prezence!C21","v":"TJ Sokol Pec pod Čerchovem"},100,39,1,{"$f":"D80+E80","v":139},{"$f":"SUM(D80:D83)","v":355},{"$f":"SUM(E80:E83)","v":164},{"$f":"SUM(F80:F83)","v":7},{"$f":"SUM(G80:G83)","v":519},null,{"$f":"B80","v":"Tomáš Vrba"},{"$f":"C80","v":"TJ Sokol Pec pod Čerchovem"},{"$f":"H80","v":355},{"$f":"I80","v":164},{"$f":"J80","v":7},{"$f":"K80","v":519},null,{"$f":"G80+G81","v":272}]
[{"$nulls":3},98,35,2,{"$f":"D81+E81","v":133}]
[{"$nulls":3},80,45,1,{"$f":"D82+E82","v":125},{"$nulls":3},"4-3-1-2",{"$nulls":8},{"$f":"G82+G83","v":247}]
[{"$nulls":3},77,45,3,{"$f":"D83+E83","v":122}]
[21,{"$f":"Prezence!B22","v":"Roman Pivoňka"},{"$f":"Prezence!C22","v":"TJ Sokol Újezd sv. Kříže"},86,45,3,{"$f":"D84+E84","v":131},{"$f":"SUM(D84:D87)","v":372},{"$f":"SUM(E84:E87)","v":149},{"$f":"SUM(F84:F87)","v":11},{"$f":"SUM(G84:G87)","v":521},null,{"$f":"B84","v":"Roman Pivoňka"},{"$f":"C84","v":"TJ Sokol Újezd sv. Kříže"},{"$f":"H84","v":372},{"$f":"I84","v":149},{"$f":"J84","v":11},{"$f":"K84","v":521},null,{"$f":"G84+G85","v":256}]
[{"$nulls":3},98,27,2,{"$f":"D85+E85","v":125}]
[{"$nulls":3},95,24,5,{"$f":"D86+E86","v":119},{"$nulls":3},"1-2-4-3",{"$nulls":8},{"$f":"G86+G87","v":265}]
[{"$nulls":3},93,53,1,{"$f":"D87+E87","v":146}]
[22,{"$f":"Prezence!B23","v":"David Grössl"},{"$f":"Prezence!C23","v":"TJ Sokol Zahořany"},82,27,1,{"$f":"D88+E88","v":109},{"$f":"SUM(D88:D91)","v":336},{"$f":"SUM(E88:E91)","v":136},{"$f":"SUM(F88:F91)","v":10},{"$f":"SUM(G88:G91)","v":472},null,{"$f":"B88","v":"David Grössl"},{"$f":"C88","v":"TJ Sokol Zahořany"},{"$f":"H88","v":336},{"$f":"I88","v":136},{"$f":"J88","v":10},{"$f":"K88","v":472},null,{"$f":"G88+G89","v":236}]
[{"$nulls":3},82,45,1,{"$f":"D89+E89","v":127}]
[{"$nulls":3},91,35,3,{"$f":"D90+E90","v":126},{"$nulls":3},"2-1-3-4",{"$nulls":8},{"$f":"G90+G91","v":236}]
[{"$nulls":3},81,29,5,{"$f":"D91+E91","v":110}]
[23,{"$f":"Prezence!B24","v":"Bedřich Horka"},{"$f":"Prezence!C24","v":"Kuželky Holýšov"},85,43,2,{"$f":"D92+E92","v":128},{"$f":"SUM(D92:D95)","v":342},{"$f":"SUM(E92:E95)","v":184},{"$f":"SUM(F92:F95)","v":5},{"$f":"SUM(G92:G95)","v":526},null,{"$f":"B92","v":"Bedřich Horka"},{"$f":"C92","v":"Kuželky Holýšov"},{"$f":"H92","v":342},{"$f":"I92","v":184},{"$f":"J92","v":5},{"$f":"K92","v":526},null,{"$f":"G92+G93","v":253}]
[{"$nulls":3},82,43,2,{"$f":"D93+E93","v":125}]
[{"$nulls":3},90,45,1,{"$f":"D94+E94","v":135},{"$nulls":3},"3-4-2-1",{"$nulls":8},{"$f":"G94+G95","v":273}]
[{"$nulls":3},85,53,0,{"$f":"D95+E95","v":138}]
[24,{"$f":"Prezence!B25","v":"Filip Löffelmann"},{"$f":"Prezence!C25","v":"TJ Sokol Kdyně"},89,59,0,{"$f":"D96+E96","v":148},{"$f":"SUM(D96:D99)","v":363},{"$f":"SUM(E96:E99)","v":199},{"$f":"SUM(F96:F99)","v":2},{"$f":"SUM(G96:G99)","v":562},null,{"$f":"B96","v":"Filip Löffelmann"},{"$f":"C96","v":"TJ Sokol Kdyně"},{"$f":"H96","v":363},{"$f":"I96","v":199},{"$f":"J96","v":2},{"$f":"K96","v":562},null,{"$f":"G96+G97","v":294}]
[{"$nulls":3},92,54,0,{"$f":"D97+E97","v":146}]
[{"$nulls":3},93,45,0,{"$f":"D98+E98","v":138},{"$nulls":3},"4-3-1-2",{"$nulls":8},{"$f":"G98+G99","v":268}]
[{"$nulls":3},89,41,2,{"$f":"D99+E99","v":130}]
[25,{"$f":"Prezence!B26","v":"Karel Řezníček"},{"$f":"Prezence!C26","v":"TJ Sokol Díly"},98,34,1,{"$f":"D100+E100","v":132},{"$f":"SUM(D100:D103)","v":349},{"$f":"SUM(E100:E103)","v":126},{"$f":"SUM(F100:F103)","v":12},{"$f":"SUM(G100:G103)","v":475},null,{"$f":"B100","v":"Karel Řezníček"},{"$f":"C100","v":"TJ Sokol Díly"},{"$f":"H100","v":349},{"$f":"I100","v":126},{"$f":"J100","v":12},{"$f":"K100","v":475},null,{"$f":"G100+G101","v":245}]
[{"$nulls":3},87,26,4,{"$f":"D101+E101","v":113}]
[{"$nulls":3},72,31,3,{"$f":"D102+E102","v":103},{"$nulls":3},"1-2-4-3",{"$nulls":8},{"$f":"G102+G103","v":230}]
[{"$nulls":3},92,35,4,{"$f":"D103+E103","v":127}]
[26,{"$f":"Prezence!B27","v":"Tomáš Timura"},{"$f":"Prezence!C27","v":"TJ Sokol Kdyně"},91,53,0,{"$f":"D104+E104","v":144},{"$f":"SUM(D104:D107)","v":367},{"$f":"SUM(E104:E107)","v":177},{"$f":"SUM(F104:F107)","v":4},{"$f":"SUM(G104:G107)","v":544},null,{"$f":"B104","v":"Tomáš Timura"},{"$f":"C104","v":"TJ Sokol Kdyně"},{"$f":"H104","v":367},{"$f":"I104","v":177},{"$f":"J104","v":4},{"$f":"K104","v":544},null,{"$f":"G104+G105","v":282}]
[{"$nulls":3},96,42,2,{"$f":"D105+E105","v":138}]
[{"$nulls":3},94,52,0,{"$f":"D106+E106","v":146},{"$nulls":3},"2-1-3-4",{"$nulls":8},{"$f":"G106+G107","v":262}]
[{"$nulls":3},86,30,2,{"$f":"D107+E107","v":116}]
[27,{"$f":"Prezence!B28","v":"Michael Martínek"},{"$f":"Prezence!C28","v":"TJ Sokol Zahořany"},87,44,3,{"$f":"D108+E108","v":131},{"$f":"SUM(D108:D111)","v":371},{"$f":"SUM(E108:E111)","v":186},{"$f":"SUM(F108:F111)","v":5},{"$f":"SUM(G108:G111)","v":557},null,{"$f":"B108","v":"Michael Martínek"},{"$f":"C108","v":"TJ Sokol Zahořany"},{"$f":"H108","v":371},{"$f":"I108","v":186},{"$f":"J108","v":5},{"$f":"K108","v":557},null,{"$f":"G108+G109","v":274}]
[{"$nulls":3},94,49,1,{"$f":"D109+E109","v":143}]
[{"$nulls":3},99,50,0,{"$f":"D110+E110","v":149},{"$nulls":3},"3-4-2-1",{"$nulls":8},{"$f":"G110+G111","v":283}]
[{"$nulls":3},91,43,1,{"$f":"D111+E111","v":134}]
[28,{"$f":"Prezence!B29","v":"Tomáš Lukeš"},{"$f":"Prezence!C29","v":"Kuželky Holýšov"},88,41,2,{"$f":"D112+E112","v":129},{"$f":"SUM(D112:D115)","v":335},{"$f":"SUM(E112:E115)","v":163},{"$f":"SUM(F112:F115)","v":5},{"$f":"SUM(G112:G115)","v":498},null,{"$f":"B112","v":"Tomáš Lukeš"},{"$f":"C112","v":"Kuželky Holýšov"},{"$f":"H112","v":335},{"$f":"I112","v":163},{"$f":"J112","v":5},{"$f":"K112","v":498},null,{"$f":"G112+G113","v":258}]
[{"$nulls":3},78,51,0,{"$f":"D113+E113","v":129}]
[{"$nulls":3},89,36,2,{"$f":"D114+E114","v":125},{"$nulls":3},"4-3-1-2",{"$nulls":8},{"$f":"G114+G115","v":240}]
[{"$nulls":3},80,35,1,{"$f":"D115+E115","v":115}]
[29,{"$f":"Prezence!B30","v":"Libor Bureš"},{"$f":"Prezence!C30","v":"SKK Rokycany"},85,43,2,{"$f":"D116+E116","v":128},{"$f":"SUM(D116:D119)","v":354},{"$f":"SUM(E116:E119)","v":187},{"$f":"SUM(F116:F119)","v":5},{"$f":"SUM(G116:G119)","v":541},null,{"$f":"B116","v":"Libor Bureš"},{"$f":"C116","v":"SKK Rokycany"},{"$f":"H116","v":354},{"$f":"I116","v":187},{"$f":"J116","v":5},{"$f":"K116","v":541},null,{"$f":"G116+G117","v":259}]
[{"$nulls":3},86,45,2,{"$f":"D117+E117","v":131}]
[{"$nulls":3},86,54,0,{"$f":"D118+E118","v":140},{"$nulls":3},"1-2-4-3",{"$nulls":8},{"$f":"G118+G119","v":282}]
[{"$nulls":3},97,45,1,{"$f":"D119+E119","v":142}]
[30,{"$f":"Prezence!B31","v":"Vojtěch Špelina"},{"$f":"Prezence!C31","v":"SKK Rokycany"},97,43,0,{"$f":"D120+E120","v":140},{"$f":"SUM(D120:D123)","v":376},{"$f":"SUM(E120:E123)","v":184},{"$f":"SUM(F120:F123)","v":0},{"$f":"SUM(G120:G123)","v":560},null,{"$f":"B120","v":"Vojtěch Špelina"},{"$f":"C120","v":"SKK Rokycany"},{"$f":"H120","v":376},{"$f":"I120","v":184},{"$f":"J120","v":0},{"$f":"K120","v":560},null,{"$f":"G120+G121","v":261}]
[{"$nulls":3},88,33,0,{"$f":"D121+E121","v":121}]
[{"$nulls":3},103,54,0,{"$f":"D122+E122","v":157},{"$nulls":3},"2-1-3-4",{"$nulls":8},{"$f":"G122+G123","v":299}]
[{"$nulls":3},88,54,0,{"$f":"D123+E123","v":142}]
[31,{"$f":"Prezence!B32","v":"Michael Kotal"},{"$f":"Prezence!C32","v":"TJ Sokol Zahořany"},96,54,1,{"$f":"D124+E124","v":150},{"$f":"SUM(D124:D127)","v":409},{"$f":"SUM(E124:E127)","v":238},{"$f":"SUM(F124:F127)","v":1},{"$f":"SUM(G124:G127)","v":647},null,{"$f":"B124","v":"Michael Kotal"},{"$f":"C124","v":"TJ Sokol Zahořany"},{"$f":"H124","v":409},{"$f":"I124","v":238},{"$f":"J124","v":1},{"$f":"K124","v":647},null,{"$f":"G124+G125","v":320}]
[{"$nulls":3},103,67,0,{"$f":"D125+E125","v":170}]
[{"$nulls":3},106,63,0,{"$f":"D126+E126","v":169},{"$nulls":3},"3-4-2-1",{"$nulls":8},{"$f":"G126+G127","v":327}]
[{"$nulls":3},104,54,0,{"$f":"D127+E127","v":158}]
[32,{"$f":"Prezence!B33","v":"Milan Svoboda"},{"$f":"Prezence!C33","v":"CB Dobřany"},91,63,0,{"$f":"D128+E128","v":154},{"$f":"SUM(D128:D131)","v":381},{"$f":"SUM(E128:E131)","v":228},{"$f":"SUM(F128:F131)","v":2},{"$f":"SUM(G128:G131)","v":609},null,{"$f":"B128","v":"Milan Svoboda"},{"$f":"C128","v":"CB Dobřany"},{"$f":"H128","v":381},{"$f":"I128","v":228},{"$f":"J128","v":2},{"$f":"K128","v":609},null,{"$f":"G128+G129","v":302}]
[{"$nulls":3},100,48,0,{"$f":"D129+E129","v":148}]
[{"$nulls":3},92,54,2,{"$f":"D130+E130","v":146},{"$nulls":3},"4-3-1-2",{"$nulls":8},{"$f":"G130+G131","v":307}]
[{"$nulls":3},98,63,0,{"$f":"D131+E131","v":161}]
[33,{"$f":"Prezence!B34","v":0},{"$f":"Prezence!C34","v":0},{"$nulls":3},{"$f":"D132+E132","v":0},{"$f":"SUM(D132:D135)","v":0},{"$f":"SUM(E132:E135)","v":0},{"$f":"SUM(F132:F135)","v":0},{"$f":"SUM(G132:G135)","v":0},null,{"$f":"B132","v":0},{"$f":"C132","v":0},{"$f":"H132","v":0},{"$f":"I132","v":0},{"$f":"J132","v":0},{"$f":"K132","v":0},null,{"$f":"G132+G133","v":0}]
[{"$nulls":6},{"$f":"D133+E133","v":0}]
[{"$nulls":6},{"$f":"D134+E134","v":0},{"$nulls":3},"1-2-4-3",{"$nulls":8},{"$f":"G134+G135","v":0}]
[{"$nulls":6},{"$f":"D135+E135","v":0}]
[34,{"$f":"Prezence!B35","v":0},{"$f":"Prezence!C35","v":0},{"$nulls":3},{"$f":"D136+E136","v":0},{"$f":"SUM(D136:D139)","v":0},{"$f":"SUM(E136:E139)","v":0},{"$f":"SUM(F136:F139)","v":0},{"$f":"SUM(G136:G139)","v":0},null,{"$f":"B136","v":0},{"$f":"C136","v":0},{"$f":"H136","v":0},{"$f":"I136","v":0},{"$f":"J136","v":0},{"$f":"K136","v":0},null,{"$f":"G136+G137","v":0}]
[{"$nulls":6},{"$f":"D137+E137","v":0}]
[{"$nulls":6},{"$f":"D138+E138","v":0},{"$nulls":3},"2-1-3-4",{"$nulls":8},{"$f":"G138+G139","v":0}]
[{"$nulls":6},{"$f":"D139+E139","v":0}]
[35,{"$f":"Prezence!B36","v":0},{"$f":"Prezence!C36","v":0},{"$nulls":3},{"$f":"D140+E140","v":0},{"$f":"SUM(D140:D143)","v":0},{"$f":"SUM(E140:E143)","v":0},{"$f":"SUM(F140:F143)","v":0},{"$f":"SUM(G140:G143)","v":0},null,{"$f":"B140","v":0},{"$f":"C140","v":0},{"$f":"H140","v":0},{"$f":"I140","v":0},{"$f":"J140","v":0},{"$f":"K140","v":0},null,{"$f":"G140+G141","v":0}]
[{"$nulls":6},{"$f":"D141+E141","v":0}]
[{"$nulls":6},{"$f":"D142+E142","v":0},{"$nulls":3},"3-4-2-1",{"$nulls":8},{"$f":"G142+G143","v":0}]
[{"$nulls":6},{"$f":"D143+E143","v":0}]
[36,{"$f":"Prezence!B37","v":0},{"$f":"Prezence!C37","v":0},{"$nulls":3},{"$f":"D144+E144","v":0},{"$f":"SUM(D144:D147)","v":0},{"$f":"SUM(E144:E147)","v":0},{"$f":"SUM(F144:F147)","v":0},{"$f":"SUM(G144:G147)","v":0},null,{"$f":"B144","v":0},{"$f":"C144","v":0},{"$f":"H144","v":0},{"$f":"I144","v":0},{"$f":"J144","v":0},{"$f":"K144","v":0},null,{"$f":"G144+G145","v":0}]
[{"$nulls":6},{"$f":"D145+E145","v":0}]
[{"$nulls":6},{"$f":"D146+E146","v":0},{"$nulls":3},"4-3-1-2",{"$nulls":8},{"$f":"G146+G147","v":0}]
[{"$nulls":6},{"$f":"D147+E147","v":0}]
[37,{"$f":"Prezence!B38","v":0},{"$f":"Prezence!C38","v":0},{"$nulls":3},{"$f":"D148+E148","v":0},{"$f":"SUM(D148:D151)","v":0},{"$f":"SUM(E148:E151)","v":0},{"$f":"SUM(F148:F151)","v":0},{"$f":"SUM(G148:G151)","v":0},null,{"$f":"B148","v":0},{"$f":"C148","v":0},{"$f":"H148","v":0},{"$f":"I148","v":0},{"$f":"J148","v":0},{"$f":"K148","v":0},null,{"$f":"G148+G149","v":0}]
[{"$nulls":6},{"$f":"D149+E149","v":0}]
[{"$nulls":6},{"$f":"D150+E150","v":0},{"$nulls":3},"1-2-4-3",{"$nulls":8},{"$f":"G150+G151","v":0}]
[{"$nulls":6},{"$f":"D151+E151","v":0}]
[38,{"$f":"Prezence!B39","v":0},{"$f":"Prezence!C39","v":0},{"$nulls":3},{"$f":"D152+E152","v":0},{"$f":"SUM(D152:D155)","v":0},{"$f":"SUM(E152:E155)","v":0},{"$f":"SUM(F152:F155)","v":0},{"$f":"SUM(G152:G155)","v":0},null,{"$f":"B152","v":0},{"$f":"C152","v":0},{"$f":"H152","v":0},{"$f":"I152","v":0},{"$f":"J152","v":0},{"$f":"K152","v":0},null,{"$f":"G152+G153","v":0}]
[{"$nulls":6},{"$f":"D153+E153","v":0}]
[{"$nulls":6},{"$f":"D154+E154","v":0},{"$nulls":3},"2-1-3-4",{"$nulls":8},{"$f":"G154+G155","v":0}]
[{"$nulls":6},{"$f":"D155+E155","v":0}]
[39,{"$f":"Prezence!B40","v":0},{"$f":"Prezence!C40","v":0},{"$nulls":3},{"$f":"D156+E156","v":0},{"$f":"SUM(D156:D159)","v":0},{"$f":"SUM(E156:E159)","v":0},{"$f":"SUM(F156:F159)","v":0},{"$f":"SUM(G156:G159)","v":0},null,{"$f":"B156","v":0},{"$f":"C156","v":0},{"$f":"H156","v":0},{"$f":"I156","v":0},{"$f":"J156","v":0},{"$f":"K156","v":0},null,{"$f":"G156+G157","v":0}]
[{"$nulls":6},{"$f":"D157+E157","v":0}]
[{"$nulls":6},{"$f":"D158+E158","v":0},{"$nulls":3},"3-4-2-1",{"$nulls":8},{"$f":"G158+G159","v":0}]
[{"$nulls":6},{"$f":"D159+E159","v":0}]
[40,{"$f":"Prezence!B41","v":0},{"$f":"Prezence!C41","v":0},{"$nulls":3},{"$f":"D160+E160","v":0},{"$f":"SUM(D160:D163)","v":0},{"$f":"SUM(E160:E163)","v":0},{"$f":"SUM(F160:F163)","v":0},{"$f":"SUM(G160:G163)","v":0},null,{"$f":"B160","v":0},{"$f":"C160","v":0},{"$f":"H160","v":0},{"$f":"I160","v":0},{"$f":"J160","v":0},{"$f":"K160","v":0},null,{"$f":"G160+G161","v":0}]
[{"$nulls":6},{"$f":"D161+E161","v":0}]
[{"$nulls":6},{"$f":"D162+E162","v":0},{"$nulls":3},"4-3-1-2",{"$nulls":8},{"$f":"G162+G163","v":0}]
[{"$nulls":6},{"$f":"D163+E163","v":0}]
[41,{"$f":"Prezence!B42","v":0},{"$f":"Prezence!C42","v":0},{"$nulls":3},{"$f":"D164+E164","v":0},{"$f":"SUM(D164:D167)","v":0},{"$f":"SUM(E164:E167)","v":0},{"$f":"SUM(F164:F167)","v":0},{"$f":"SUM(G164:G167)","v":0},null,{"$f":"B164","v":0},{"$f":"C164","v":0},{"$f":"H164","v":0},{"$f":"I164","v":0},{"$f":"J164","v":0},{"$f":"K164","v":0},null,{"$f":"G164+G165","v":0}]
[{"$nulls":6},{"$f":"D165+E165","v":0}]
[{"$nulls":6},{"$f":"D166+E166","v":0},{"$nulls":3},"1-2-4-3",{"$nulls":8},{"$f":"G166+G167","v":0}]
[{"$nulls":6},{"$f":"D167+E167","v":0}]
[42,{"$f":"Prezence!B43","v":0},{"$f":"Prezence!C43","v":0},{"$nulls":3},{"$f":"D168+E168","v":0},{"$f":"SUM(D168:D171)","v":0},{"$f":"SUM(E168:E171)","v":0},{"$f":"SUM(F168:F171)","v":0},{"$f":"SUM(G168:G171)","v":0},null,{"$f":"B168","v":0},{"$f":"C168","v":0},{"$f":"H168","v":0},{"$f":"I168","v":0},{"$f":"J168","v":0},{"$f":"K168","v":0},null,{"$f":"G168+G169","v":0}]
[{"$nulls":6},{"$f":"D169+E169","v":0}]
[{"$nulls":6},{"$f":"D170+E170","v":0},{"$nulls":3},"2-1-3-4",{"$nulls":8},{"$f":"G170+G171","v":0}]
[{"$nulls":6},{"$f":"D171+E171","v":0}]
[43,{"$f":"Prezence!B44","v":0},{"$f":"Prezence!C44","v":0},{"$nulls":3},{"$f":"D172+E172","v":0},{"$f":"SUM(D172:D175)","v":0},{"$f":"SUM(E172:E175)","v":0},{"$f":"SUM(F172:F175)","v":0},{"$f":"SUM(G172:G175)","v":0},null,{"$f":"B172","v":0},{"$f":"C172","v":0},{"$f":"H172","v":0},{"$f":"I172","v":0},{"$f":"J172","v":0},{"$f":"K172","v":0},null,{"$f":"G172+G173","v":0}]
[{"$nulls":6},{"$f":"D173+E173","v":0}]
[{"$nulls":6},{"$f":"D174+E174","v":0},{"$nulls":3},"3-4-2-1",{"$nulls":8},{"$f":"G174+G175","v":0}]
[{"$nulls":6},{"$f":"D175+E175","v":0}]
[44,{"$f":"Prezence!B45","v":0},{"$f":"Prezence!C45","v":0},{"$nulls":3},{"$f":"D176+E176","v":0},{"$f":"SUM(D176:D179)","v":0},{"$f":"SUM(E176:E179)","v":0},{"$f":"SUM(F176:F179)","v":0},{"$f":"SUM(G176:G179)","v":0},null,{"$f":"B176","v":0},{"$f":"C176","v":0},{"$f":"H176","v":0},{"$f":"I176","v":0},{"$f":"J176","v":0},{"$f":"K176","v":0},null,{"$f":"G176+G177","v":0}]
[{"$nulls":6},{"$f":"D177+E177","v":0}]
[{"$nulls":6},{"$f":"D178+E178","v":0},{"$nulls":3},"4-3-1-2",{"$nulls":8},{"$f":"G178+G179","v":0}]
[{"$nulls":6},{"$f":"D179+E179","v":0}]
[45,{"$f":"Prezence!B46","v":0},{"$f":"Prezence!C46","v":0},{"$nulls":3},{"$f":"D180+E180","v":0},{"$f":"SUM(D180:D183)","v":0},{"$f":"SUM(E180:E183)","v":0},{"$f":"SUM(F180:F183)","v":0},{"$f":"SUM(G180:G183)","v":0},null,{"$f":"B180","v":0},{"$f":"C180","v":0},{"$f":"H180","v":0},{"$f":"I180","v":0},{"$f":"J180","v":0},{"$f":"K180","v":0},null,{"$f":"G180+G181","v":0}]
[{"$nulls":6},{"$f":"D181+E181","v":0}]
[{"$nulls":6},{"$f":"D182+E182","v":0},{"$nulls":3},"1-2-4-3",{"$nulls":8},{"$f":"G182+G183","v":0}]
[{"$nulls":6},{"$f":"D183+E183","v":0}]
[46,{"$f":"Prezence!B47","v":0},{"$f":"Prezence!C47","v":0},{"$nulls":3},{"$f":"D184+E184","v":0},{"$f":"SUM(D184:D187)","v":0},{"$f":"SUM(E184:E187)","v":0},{"$f":"SUM(F184:F187)","v":0},{"$f":"SUM(G184:G187)","v":0},null,{"$f":"B184","v":0},{"$f":"C184","v":0},{"$f":"H184","v":0},{"$f":"I184","v":0},{"$f":"J184","v":0},{"$f":"K184","v":0},null,{"$f":"G184+G185","v":0}]
[{"$nulls":6},{"$f":"D185+E185","v":0}]
[{"$nulls":6},{"$f":"D186+E186","v":0},{"$nulls":3},"2-1-3-4",{"$nulls":8},{"$f":"G186+G187","v":0}]
[{"$nulls":6},{"$f":"D187+E187","v":0}]
[47,{"$f":"Prezence!B48","v":0},{"$f":"Prezence!C48","v":0},{"$nulls":3},{"$f":"D188+E188","v":0},{"$f":"SUM(D188:D191)","v":0},{"$f":"SUM(E188:E191)","v":0},{"$f":"SUM(F188:F191)","v":0},{"$f":"SUM(G188:G191)","v":0},null,{"$f":"B188","v":0},{"$f":"C188","v":0},{"$f":"H188","v":0},{"$f":"I188","v":0},{"$f":"J188","v":0},{"$f":"K188","v":0},null,{"$f":"G188+G189","v":0}]
[{"$nulls":6},{"$f":"D189+E189","v":0}]
[{"$nulls":6},{"$f":"D190+E190","v":0},{"$nulls":3},"3-4-2-1",{"$nulls":8},{"$f":"G190+G191","v":0}]
[{"$nulls":6},{"$f":"D191+E191","v":0}]
[48,{"$f":"Prezence!B49","v":0},{"$f":"Prezence!C49","v":0},{"$nulls":3},{"$f":"D192+E192","v":0},{"$f":"SUM(D192:D195)","v":0},{"$f":"SUM(E192:E195)","v":0},{"$f":"SUM(F192:F195)","v":0},{"$f":"SUM(G192:G195)","v":0},null,{"$f":"B192","v":0},{"$f":"C192","v":0},{"$f":"H192","v":0},{"$f":"I192","v":0},{"$f":"J192","v":0},{"$f":"K192","v":0},null,{"$f":"G192+G193","v":0}]
[{"$nulls":6},{"$f":"D193+E193","v":0}]
[{"$nulls":6},{"$f":"D194+E194","v":0},{"$nulls":3},"4-3-1-2",{"$nulls":8},{"$f":"G194+G195","v":0}]
[{"$nulls":6},{"$f":"D195+E195","v":0}]
[]
["Finále"]
[24,"Václav Loukotka","TJ Slavoj Plzeň",0,0,0,{"$f":"D198+E198","v":0},{"$f":"SUM(D198:D201)","v":0},{"$f":"SUM(E198:E201)","v":0},{"$f":"SUM(F198:F201)","v":0},{"$f":"SUM(G198:G201)","v":0},{"$f":"K198+H200","v":0},{"$f":"B198","v":"Václav Loukotka"},{"$f":"C198","v":"TJ Slavoj Plzeň"},{"$f":"H198","v":0},{"$f":"I198","v":0},{"$f":"J198","v":0},{"$f":"K198","v":0},null,{"$f":"G198+G199","v":0}]
[{"$nulls":3},0,0,0,{"$f":"D199+E199","v":0}]
[{"$nulls":3},0,0,0,{"$f":"D200+E200","v":0},{"$nulls":3},"1-2-4-3",{"$nulls":8},{"$f":"G200+G201","v":0}]
[{"$nulls":3},0,0,0,{"$f":"D201+E201","v":0}]
[23,"Tomáš Timura","TJ Sokol Kdyně",0,0,0,{"$f":"D202+E202","v":0},{"$f":"SUM(D202:D205)","v":0},{"$f":"SUM(E202:E205)","v":0},{"$f":"SUM(F202:F205)","v":0},{"$f":"SUM(G202:G205)","v":0},{"$f":"K202+H204","v":0},{"$f":"B202","v":"Tomáš Timura"},{"$f":"C202","v":"TJ Sokol Kdyně"},{"$f":"H202","v":0},{"$f":"I202","v":0},{"$f":"J202","v":0},{"$f":"K202","v":0},null,{"$f":"G202+G203","v":0}]
[{"$nulls":3},0,0,0,{"$f":"D203+E203","v":0}]
[{"$nulls":3},0,0,0,{"$f":"D204+E204","v":0},{"$nulls":3},"2-1-3-4",{"$nulls":8},{"$f":"G204+G205","v":0}]
[{"$nulls":3},0,0,0,{"$f":"D205+E205","v":0}]
[22,"Miloš Černohorský","SK Škoda VS Plzeň",0,0,0,{"$f":"D206+E206","v":0},{"$f":"SUM(D206:D209)","v":0},{"$f":"SUM(E206:E209)","v":0},{"$f":"SUM(F206:F209)","v":0},{"$f":"SUM(G206:G209)","v":0},{"$f":"K206+H208","v":0},{"$f":"B206","v":"Miloš Černohorský"},{"$f":"C206","v":"SK Škoda VS Plzeň"},{"$f":"H206","v":0},{"$f":"I206","v":0},{"$f":"J206","v":0},{"$f":"K206","v":0},null,{"$f":"G206+G207","v":0}]
[{"$nulls":3},0,0,0,{"$f":"D207+E207","v":0}]
[{"$nulls":3},0,0,0,{"$f":"D208+E208","v":0},{"$nulls":3},"3-4-2-1",{"$nulls":8},{"$f":"G208+G209","v":0}]
[{"$nulls":3},0,0,0,{"$f":"D209+E209","v":0}]
[21,"Roman Drugda","TJ Slavoj Plzeň",0,0,0,{"$f":"D210+E210","v":0},{"$f":"SUM(D210:D213)","v":0},{"$f":"SUM(E210:E213)","v":0},{"$f":"SUM(F210:F213)","v":0},{"$f":"SUM(G210:G213)","v":0},{"$f":"K210+H212","v":0},{"$f":"B210","v":"Roman Drugda"},{"$f":"C210","v":"TJ Slavoj Plzeň"},{"$f":"H210","v":0},{"$f":"I210","v":0},{"$f":"J210","v":0},{"$f":"K210","v":0},null,{"$f":"G210+G211","v":0}]
[{"$nulls":3},0,0,0,{"$f":"D211+E211","v":0}]
[{"$nulls":3},0,0,0,{"$f":"D212+E212","v":0},{"$nulls":3},"4-3-1-2",{"$nulls":8},{"$f":"G212+G213","v":0}]
[{"$nulls":3},0,0,0,{"$f":"D213+E213","v":0}]
[20,"Michal Novosad","TJ Slavoj Plzeň",0,0,0,{"$f":"D214+E214","v":0},{"$f":"SUM(D214:D217)","v":0},{"$f":"SUM(E214:E217)","v":0},{"$f":"SUM(F214:F217)","v":0},{"$f":"SUM(G214:G217)","v":0},{"$f":"K214+H216","v":0},{"$f":"B214","v":"Michal Novosad"},{"$f":"C214","v":"TJ Slavoj Plzeň"},{"$f":"H214","v":0},{"$f":"I214","v":0},{"$f":"J214","v":0},{"$f":"K214","v":0},null,{"$f":"G214+G215","v":0}]
[{"$nulls":3},0,0,0,{"$f":"D215+E215","v":0}]
[{"$nulls":3},0,0,0,{"$f":"D216+E216","v":0},{"$nulls":3},"1-2-4-3",{"$nulls":8},{"$f":"G216+G217","v":0}]
[{"$nulls":3},0,0,0,{"$f":"D217+E217","v":0}]
[19,"Jan Vacikar","SK Škoda VS Plzeň",0,0,0,{"$f":"D218+E218","v":0},{"$f":"SUM(D218:D221)","v":0},{"$f":"SUM(E218:E221)","v":0},{"$f":"SUM(F218:F221)","v":0},{"$f":"SUM(G218:G221)","v":0},{"$f":"K218+H220","v":0},{"$f":"B218","v":"Jan Vacikar"},{"$f":"C218","v":"SK Škoda VS Plzeň"},{"$f":"H218","v":0},{"$f":"I218","v":0},{"$f":"J218","v":0},{"$f":"K218","v":0},null,{"$f":"G218+G219","v":0}]
[{"$nulls":3},0,0,0,{"$f":"D219+E219","v":0}]
[{"$nulls":3},0,0,0,{"$f":"D220+E220","v":0},{"$nulls":3},"2-1-3-4",{"$nulls":8},{"$f":"G220+G221","v":0}]
[{"$nulls":3},0,0,0,{"$f":"D221+E221","v":0}]
[18,"Michal Šneberger","CB Dobřany",0,0,0,{"$f":"D222+E222","v":0},{"$f":"SUM(D222:D225)","v":0},{"$f":"SUM(E222:E225)","v":0},{"$f":"SUM(F222:F225)","v":0},{"$f":"SUM(G222:G225)","v":0},{"$f":"K222+H224","v":0},{"$f":"B222","v":"Michal Šneberger"},{"$f":"C222","v":"CB Dobřany"},{"$f":"H222","v":0},{"$f":"I222","v":0},{"$f":"J222","v":0},{"$f":"K222","v":0},null,{"$f":"G222+G223","v":0}]
[{"$nulls":3},0,0,0,{"$f":"D223+E223","v":0}]
[{"$nulls":3},0,0,0,{"$f":"D224+E224","v":0},{"$nulls":3},"3-4-2-1",{"$nulls":8},{"$f":"G224+G225","v":0}]
[{"$nulls":3},0,0,0,{"$f":"D225+E225","v":0}]
[17,"Michael Martínek","TJ Sokol Zahořany",0,0,0,{"$f":"D226+E226","v":0},{"$f":"SUM(D226:D229)","v":0},{"$f":"SUM(E226:E229)","v":0},{"$f":"SUM(F226:F229)","v":0},{"$f":"SUM(G226:G229)","v":0},{"$f":"K226+H228","v":0},{"$f":"B226","v":"Michael Martínek"},{"$f":"C226","v":"TJ Sokol Zahořany"},{"$f":"H226","v":0},{"$f":"I226","v":0},{"$f":"J226","v":0},{"$f":"K226","v":0},null,{"$f":"G226+G227","v":0}]
[{"$nulls":3},0,0,0,{"$f":"D227+E227","v":0}]
[{"$nulls":3},0,0,0,{"$f":"D228+E228","v":0},{"$nulls":3},"4-3-1-2",{"$nulls":8},{"$f":"G228+G229","v":0}]
[{"$nulls":3},0,0,0,{"$f":"D229+E229","v":0}]
[16,"Roman Pytlík","SKK Rokycany",0,0,0,{"$f":"D230+E230","v":0},{"$f":"SUM(D230:D233)","v":0},{"$f":"SUM(E230:E233)","v":0},{"$f":"SUM(F230:F233)","v":0},{"$f":"SUM(G230:G233)","v":0},{"$f":"K230+H232","v":0},{"$f":"B230","v":"Roman Pytlík"},{"$f":"C230","v":"SKK Rokycany"},{"$f":"H230","v":0},{"$f":"I230","v":0},{"$f":"J230","v":0},{"$f":"K230","v":0},null,{"$f":"G230+G231","v":0}]
[{"$nulls":3},0,0,0,{"$f":"D231+E231","v":0}]
[{"$nulls":3},0,0,0,{"$f":"D232+E232","v":0},{"$nulls":3},"1-2-4-3",{"$nulls":8},{"$f":"G232+G233","v":0}]
[{"$nulls":3},0,0,0,{"$f":"D233+E233","v":0}]
[15,"Vojtěch Špelina","SKK Rokycany",0,0,0,{"$f":"D234+E234","v":0},{"$f":"SUM(D234:D237)","v":0},{"$f":"SUM(E234:E237)","v":0},{"$f":"SUM(F234:F237)","v":0},{"$f":"SUM(G234:G237)","v":0},{"$f":"K234+H236","v":0},{"$f":"B234","v":"Vojtěch Špelina"},{"$f":"C234","v":"SKK Rokycany"},{"$f":"H234","v":0},{"$f":"I234","v":0},{"$f":"J234","v":0},{"$f":"K234","v":0},null,{"$f":"G234+G235","v":0}]
[{"$nulls":3},0,0,0,{"$f":"D235+E235","v":0}]
[{"$nulls":3},0,0,0,{"$f":"D236+E236","v":0},{"$nulls":3},"2-1-3-4",{"$nulls":8},{"$f":"G236+G237","v":0}]
[{"$nulls":3},0,0,0,{"$f":"D237+E237","v":0}]
[14,"Filip Löffelmann","TJ Sokol Kdyně",0,0,0,{"$f":"D238+E238","v":0},{"$f":"SUM(D238:D241)","v":0},{"$f":"SUM(E238:E241)","v":0},{"$f":"SUM(F238:F241)","v":0},{"$f":"SUM(G238:G241)","v":0},{"$f":"K238+H240","v":0},{"$f":"B238","v":"Filip Löffelmann"},{"$f":"C238","v":"TJ Sokol Kdyně"},{"$f":"H238","v":0},{"$f":"I238","v":0},{"$f":"J238","v":0},{"$f":"K238","v":0},null,{"$f":"G238+G239","v":0}]
[{"$nulls":3},0,0,0,{"$f":"D239+E239","v":0}]
[{"$nulls":3},0,0,0,{"$f":"D240+E240","v":0},{"$nulls":3},"3-4-2-1",{"$nulls":8},{"$f":"G240+G241","v":0}]
[{"$nulls":3},0,0,0,{"$f":"D241+E241","v":0}]
[13,"Jaroslav Pejsar","TJ Sokol Plzeň V",0,0,0,{"$f":"D242+E242","v":0},{"$f":"SUM(D242:D245)","v":0},{"$f":"SUM(E242:E245)","v":0},{"$f":"SUM(F242:F245)","v":0},{"$f":"SUM(G242:G245)","v":0},{"$f":"K242+H244","v":0},{"$f":"B242","v":"Jaroslav Pejsar"},{"$f":"C242","v":"TJ Sokol Plzeň V"},{"$f":"H242","v":0},{"$f":"I242","v":0},{"$f":"J242","v":0},{"$f":"K242","v":0},null,{"$f":"G242+G243","v":0}]
[{"$nulls":3},0,0,0,{"$f":"D243+E243","v":0}]
[{"$nulls":3},0,0,0,{"$f":"D244+E244","v":0},{"$nulls":3},"4-3-1-2",{"$nulls":8},{"$f":"G244+G245","v":0}]
[{"$nulls":3},0,0,0,{"$f":"D245+E245","v":0}]
[12,"Jiří Baloun","CB Dobřany",0,0,0,{"$f":"D246+E246","v":0},{"$f":"SUM(D246:D249)","v":0},{"$f":"SUM(E246:E249)","v":0},{"$f":"SUM(F246:F249)","v":0},{"$f":"SUM(G246:G249)","v":0},{"$f":"K246+H248","v":0},{"$f":"B246","v":"Jiří Baloun"},{"$f":"C246","v":"CB Dobřany"},{"$f":"H246","v":0},{"$f":"I246","v":0},{"$f":"J246","v":0},{"$f":"K246","v":0},null,{"$f":"G246+G247","v":0}]
[{"$nulls":3},0,0,0,{"$f":"D247+E247","v":0}]
[{"$nulls":3},0,0,0,{"$f":"D248+E248","v":0},{"$nulls":3},"1-2-4-3",{"$nulls":8},{"$f":"G248+G249","v":0}]
[{"$nulls":3},0,0,0,{"$f":"D249+E249","v":0}]
[11,"Milan Wagner","TJ Sokol Plzeň V",0,0,0,{"$f":"D250+E250","v":0},{"$f":"SUM(D250:D253)","v":0},{"$f":"SUM(E250:E253)","v":0},{"$f":"SUM(F250:F253)","v":0},{"$f":"SUM(G250:G253)","v":0},{"$f":"K250+H252","v":0},{"$f":"B250","v":"Milan Wagner"},{"$f":"C250","v":"TJ Sokol Plzeň V"},{"$f":"H250","v":0},{"$f":"I250","v":0},{"$f":"J250","v":0},{"$f":"K250","v":0},null,{"$f":"G250+G251","v":0}]
[{"$nulls":3},0,0,0,{"$f":"D251+E251","v":0}]
[{"$nulls":3},0,0,0,{"$f":"D252+E252","v":0},{"$nulls":3},"2-1-3-4",{"$nulls":8},{"$f":"G252+G253","v":0}]
[{"$nulls":3},0,0,0,{"$f":"D253+E253","v":0}]
[10,"Milan Svoboda","CB Dobřany",0,0,0,{"$f":"D254+E254","v":0},{"$f":"SUM(D254:D257)","v":0},{"$f":"SUM(E254:E257)","v":0},{"$f":"SUM(F254:F257)","v":0},{"$f":"SUM(G254:G257)","v":0},{"$f":"K254+H256","v":0},{"$f":"B254","v":"Milan Svoboda"},{"$f":"C254","v":"CB Dobřany"},{"$f":"H254","v":0},{"$f":"I254","v":0},{"$f":"J254","v":0},{"$f":"K254","v":0},null,{"$f":"G254+G255","v":0}]
[{"$nulls":3},0,0,0,{"$f":"D255+E255","v":0}]
[{"$nulls":3},0,0,0,{"$f":"D256+E256","v":0},{"$nulls":3},"3-4-2-1",{"$nulls":8},{"$f":"G256+G257","v":0}]
[{"$nulls":3},0,0,0,{"$f":"D257+E257","v":0}]
[9,"Michael Kotal","TJ Sokol Zahořany",0,0,0,{"$f":"D258+E258","v":0},{"$f":"SUM(D258:D261)","v":0},{"$f":"SUM(E258:E261)","v":0},{"$f":"SUM(F258:F261)","v":0},{"$f":"SUM(G258:G261)","v":0},{"$f":"K258+H260","v":0},{"$f":"B258","v":"Michael Kotal"},{"$f":"C258","v":"TJ Sokol Zahořany"},{"$f":"H258","v":0},{"$f":"I258","v":0},{"$f":"J258","v":0},{"$f":"K258","v":0},null,{"$f":"G258+G259","v":0}]
[{"$nulls":3},0,0,0,{"$f":"D259+E259","v":0}]
[{"$nulls":3},0,0,0,{"$f":"D260+E260","v":0},{"$nulls":3},"4-3-1-2",{"$nulls":8},{"$f":"G260+G261","v":0}]
[{"$nulls":3},0,0,0,{"$f":"D261+E261","v":0}]
[8,{"$f":"Export!B117","v":0},{"$f":"Export!C117","v":0},{"$nulls":3},{"$f":"D262+E262","v":0},{"$f":"SUM(D262:D265)","v":0},{"$f":"SUM(E262:E265)","v":0},{"$f":"SUM(F262:F265)","v":0},{"$f":"SUM(G262:G265)","v":0},{"$f":"K262+H264","v":0},{"$f":"B262","v":0},{"$f":"C262","v":0},{"$f":"H262","v":0},{"$f":"I262","v":0},{"$f":"J262","v":0},{"$f":"K262","v":0},null,{"$f":"G262+G263","v":0}]
[{"$nulls":6},{"$f":"D263+E263","v":0}]
[{"$nulls":6},{"$f":"D264+E264","v":0},{"$nulls":3},"1-2-4-3",{"$nulls":8},{"$f":"G264+G265","v":0}]
[{"$nulls":6},{"$f":"D265+E265","v":0}]
[7,{"$f":"Export!B118","v":0},{"$f":"Export!C118","v":0},{"$nulls":3},{"$f":"D266+E266","v":0},{"$f":"SUM(D266:D269)","v":0},{"$f":"SUM(E266:E269)","v":0},{"$f":"SUM(F266:F269)","v":0},{"$f":"SUM(G266:G269)","v":0},{"$f":"K266+H268","v":0},{"$f":"B266","v":0},{"$f":"C266","v":0},{"$f":"H266","v":0},{"$f":"I266","v":0},{"$f":"J266","v":0},{"$f":"K266","v":0},null,{"$f":"G266+G267","v":0}]
[{"$nulls":6},{"$f":"D267+E267","v":0}]
[{"$nulls":6},{"$f":"D268+E268","v":0},{"$nulls":3},"2-1-3-4",{"$nulls":8},{"$f":"G268+G269","v":0}]
[{"$nulls":6},{"$f":"D269+E269","v":0}]
[6,{"$f":"Export!B119","v":0},{"$f":"Export!C119","v":0},{"$nulls":3},{"$f":"D270+E270","v":0},{"$f":"SUM(D270:D273)","v":0},{"$f":"SUM(E270:E273)","v":0},{"$f":"SUM(F270:F273)","v":0},{"$f":"SUM(G270:G273)","v":0},{"$f":"K270+H272","v":0},{"$f":"B270","v":0},{"$f":"C270","v":0},{"$f":"H270","v":0},{"$f":"I270","v":0},{"$f":"J270","v":0},{"$f":"K270","v":0},null,{"$f":"G270+G271","v":0}]
[{"$nulls":6},{"$f":"D271+E271","v":0}]
[{"$nulls":6},{"$f":"D272+E272","v":0},{"$nulls":3},"3-4-2-1",{"$nulls":8},{"$f":"G272+G273","v":0}]
[{"$nulls":6},{"$f":"D273+E273","v":0}]
[5,{"$f":"Export!B120","v":0},{"$f":"Export!C120","v":0},{"$nulls":3},{"$f":"D274+E274","v":0},{"$f":"SUM(D274:D277)","v":0},{"$f":"SUM(E274:E277)","v":0},{"$f":"SUM(F274:F277)","v":0},{"$f":"SUM(G274:G277)","v":0},{"$f":"K274+H276","v":0},{"$f":"B274","v":0},{"$f":"C274","v":0},{"$f":"H274","v":0},{"$f":"I274","v":0},{"$f":"J274","v":0},{"$f":"K274","v":0},null,{"$f":"G274+G275","v":0}]
[{"$nulls":6},{"$f":"D275+E275","v":0}]
[{"$nulls":6},{"$f":"D276+E276","v":0},{"$nulls":3},"4-3-1-2",{"$nulls":8},{"$f":"G276+G277","v":0}]
[{"$nulls":6},{"$f":"D277+E277","v":0}]
[4,{"$f":"Export!B121","v":0},{"$f":"Export!C121","v":0},{"$nulls":3},{"$f":"D278+E278","v":0},{"$f":"SUM(D278:D281)","v":0},{"$f":"SUM(E278:E281)","v":0},{"$f":"SUM(F278:F281)","v":0},{"$f":"SUM(G278:G281)","v":0},{"$f":"K278+H280","v":0},{"$f":"B278","v":0},{"$f":"C278","v":0},{"$f":"H278","v":0},{"$f":"I278","v":0},{"$f":"J278","v":0},{"$f":"K278","v":0},null,{"$f":"G278+G279","v":0}]
[{"$nulls":6},{"$f":"D279+E279","v":0}]
[{"$nulls":6},{"$f":"D280+E280","v":0},{"$nulls":3},"1-2-4-3",{"$nulls":8},{"$f":"G280+G281","v":0}]
[{"$nulls":6},{"$f":"D281+E281","v":0}]
[3,{"$f":"Export!B122","v":0},{"$f":"Export!C122","v":0},{"$nulls":3},{"$f":"D282+E282","v":0},{"$f":"SUM(D282:D285)","v":0},{"$f":"SUM(E282:E285)","v":0},{"$f":"SUM(F282:F285)","v":0},{"$f":"SUM(G282:G285)","v":0},{"$f":"K282+H284","v":0},{"$f":"B282","v":0},{"$f":"C282","v":0},{"$f":"H282","v":0},{"$f":"I282","v":0},{"$f":"J282","v":0},{"$f":"K282","v":0},null,{"$f":"G282+G283","v":0}]
[{"$nulls":6},{"$f":"D283+E283","v":0}]
[{"$nulls":6},{"$f":"D284+E284","v":0},{"$nulls":3},"2-1-3-4",{"$nulls":8},{"$f":"G284+G285","v":0}]
[{"$nulls":6},{"$f":"D285+E285","v":0}]
[2,{"$f":"Export!B123","v":0},{"$f":"Export!C123","v":0},{"$nulls":3},{"$f":"D286+E286","v":0},{"$f":"SUM(D286:D289)","v":0},{"$f":"SUM(E286:E289)","v":0},{"$f":"SUM(F286:F289)","v":0},{"$f":"SUM(G286:G289)","v":0},{"$f":"K286+H288","v":0},{"$f":"B286","v":0},{"$f":"C286","v":0},{"$f":"H286","v":0},{"$f":"I286","v":0},{"$f":"J286","v":0},{"$f":"K286","v":0},null,{"$f":"G286+G287","v":0}]
[{"$nulls":6},{"$f":"D287+E287","v":0}]
[{"$nulls":6},{"$f":"D288+E288","v":0},{"$nulls":3},"3-4-2-1",{"$nulls":8},{"$f":"G288+G289","v":0}]
[{"$nulls":6},{"$f":"D289+E289","v":0}]
[1,{"$f":"Export!B124","v":0},{"$f":"Export!C124","v":0},{"$nulls":3},{"$f":"D290+E290","v":0},{"$f":"SUM(D290:D293)","v":0},{"$f":"SUM(E290:E293)","v":0},{"$f":"SUM(F290:F293)","v":0},{"$f":"SUM(G290:G293)","v":0},{"$f":"K290+H292","v":0},{"$f":"B290","v":0},{"$f":"C290","v":0},{"$f":"H290","v":0},{"$f":"I290","v":0},{"$f":"J290","v":0},{"$f":"K290","v":0},null,{"$f":"G290+G291","v":0}]
[{"$nulls":6},{"$f":"D291+E291","v":0}]
[{"$nulls":6},{"$f":"D292+E292","v":0},{"$nulls":3},"4-3-1-2",{"$nulls":8},{"$f":"G292+G293","v":0}]
[{"$nulls":6},{"$f":"D293+E293","v":0}]
[]
[{"$nulls":3},{"$f":"MAX(D4:D229)","v":106},{"$f":"MAX(E4:E229)","v":67},{"$f":"MAX(F4:F229)","v":5},{"$f":"MAX(G4:G229)","v":170},{"$f":"MAX(H4:H229)","v":409},{"$f":"MAX(I4:I229)","v":238},{"$f":"MIN(J4:J229)","v":0},{"$f":"MAX(K4:K229)","v":647},{"$nulls":8},{"$f":"MAX(T4:T229)","v":327}]

{"sheet":"Export","index":2,"n_rows":124,"n_cols":7,"rows_kept":124}
["Muži"]
[]
[1,{"$f":"Zadání!M4","v":"Roman Pytlík"},{"$f":"Zadání!N4","v":"SKK Rokycany"},{"$f":"Zadání!O4","v":364},{"$f":"Zadání!P4","v":194},{"$f":"Zadání!Q4","v":2},{"$f":"Zadání!R4","v":558}]
[2,{"$f":"Zadání!M8","v":"Michal Šneberger"},{"$f":"Zadání!N8","v":"CB Dobřany"},{"$f":"Zadání!O8","v":379},{"$f":"Zadání!P8","v":177},{"$f":"Zadání!Q8","v":4},{"$f":"Zadání!R8","v":556}]
[3,{"$f":"Zadání!M12","v":"Roman Drugda"},{"$f":"Zadání!N12","v":"TJ Slavoj Plzeň"},{"$f":"Zadání!O12","v":374},{"$f":"Zadání!P12","v":172},{"$f":"Zadání!Q12","v":10},{"$f":"Zadání!R12","v":546}]
[4,{"$f":"Zadání!M16","v":"Jan Valdman"},{"$f":"Zadání!N16","v":"TJ Sokol Plzeň V"},{"$f":"Zadání!O16","v":347},{"$f":"Zadání!P16","v":138},{"$f":"Zadání!Q16","v":10},{"$f":"Zadání!R16","v":485}]
[5,{"$f":"Zadání!M20","v":"Petr Fara"},{"$f":"Zadání!N20","v":"SKK Rokycany"},{"$f":"Zadání!O20","v":358},{"$f":"Zadání!P20","v":165},{"$f":"Zadání!Q20","v":3},{"$f":"Zadání!R20","v":523}]
[6,{"$f":"Zadání!M24","v":"Roman Janota"},{"$f":"Zadání!N24","v":"TJ Přeštice"},{"$f":"Zadání!O24","v":359},{"$f":"Zadání!P24","v":171},{"$f":"Zadání!Q24","v":8},{"$f":"Zadání!R24","v":530}]
[7,{"$f":"Zadání!M28","v":"Jakub Solfronk"},{"$f":"Zadání!N28","v":"TJ Dobřany"},{"$f":"Zadání!O28","v":346},{"$f":"Zadání!P28","v":150},{"$f":"Zadání!Q28","v":7},{"$f":"Zadání!R28","v":496}]
[8,{"$f":"Zadání!M32","v":"Jan Myslík"},{"$f":"Zadání!N32","v":"Kuželky Holýšov"},{"$f":"Zadání!O32","v":369},{"$f":"Zadání!P32","v":165},{"$f":"Zadání!Q32","v":2},{"$f":"Zadání!R32","v":534}]
[9,{"$f":"Zadání!M36","v":"Jan Vacikar"},{"$f":"Zadání!N36","v":"SK Škoda VS Plzeň"},{"$f":"Zadání!O36","v":383},{"$f":"Zadání!P36","v":173},{"$f":"Zadání!Q36","v":9},{"$f":"Zadání!R36","v":556}]
[10,{"$f":"Zadání!M40","v":"Zdeněk Eichler"},{"$f":"Zadání!N40","v":"CB Dobřany"},{"$f":"Zadání!O40","v":339},{"$f":"Zadání!P40","v":161},{"$f":"Zadání!Q40","v":11},{"$f":"Zadání!R40","v":500}]
[11,{"$f":"Zadání!M44","v":"Michal Novosad"},{"$f":"Zadání!N44","v":"TJ Slavoj Plzeň"},{"$f":"Zadání!O44","v":371},{"$f":"Zadání!P44","v":177},{"$f":"Zadání!Q44","v":4},{"$f":"Zadání!R44","v":548}]
[12,{"$f":"Zadání!M48","v":"Josef Fišer ml."},{"$f":"Zadání!N48","v":"CB Dobřany"},{"$f":"Zadání!O48","v":366},{"$f":"Zadání!P48","v":170},{"$f":"Zadání!Q48","v":5},{"$f":"Zadání!R48","v":536}]
[13,{"$f":"Zadání!M52","v":"Michal Lohr"},{"$f":"Zadání!N52","v":"TJ Dobřany"},{"$f":"Zadání!O52","v":340},{"$f":"Zadání!P52","v":159},{"$f":"Zadání!Q52","v":5},{"$f":"Zadání!R52","v":499}]
[14,{"$f":"Zadání!M56","v":"Jiří Baloun"},{"$f":"Zadání!N56","v":"CB Dobřany"},{"$f":"Zadání!O56","v":378},{"$f":"Zadání!P56","v":209},{"$f":"Zadání!Q56","v":3},{"$f":"Zadání!R56","v":587}]
[15,{"$f":"Zadání!M60","v":"Jaromír Kotas"},{"$f":"Zadání!N60","v":"TJ Slavoj Plzeň"},{"$f":"Zadání!O60","v":353},{"$f":"Zadání!P60","v":149},{"$f":"Zadání!Q60","v":8},{"$f":"Zadání!R60","v":502}]
[16,{"$f":"Zadání!M64","v":"Jaroslav Pejsar"},{"$f":"Zadání!N64","v":"TJ Sokol Plzeň V"},{"$f":"Zadání!O64","v":384},{"$f":"Zadání!P64","v":179},{"$f":"Zadání!Q64","v":8},{"$f":"Zadání!R64","v":563}]
[17,{"$f":"Zadání!M68","v":"Miloš Černohorský"},{"$f":"Zadání!N68","v":"SK Škoda VS Plzeň"},{"$f":"Zadání!O68","v":366},{"$f":"Zadání!P68","v":179},{"$f":"Zadání!Q68","v":3},{"$f":"Zadání!R68","v":545}]
[18,{"$f":"Zadání!M72","v":"Milan Wagner"},{"$f":"Zadání!N72","v":"TJ Sokol Plzeň V"},{"$f":"Zadání!O72","v":391},{"$f":"Zadání!P72","v":213},{"$f":"Zadání!Q72","v":1},{"$f":"Zadání!R72","v":604}]
[19,{"$f":"Zadání!M76","v":"Václav Loukotka"},{"$f":"Zadání!N76","v":"TJ Slavoj Plzeň"},{"$f":"Zadání!O76","v":377},{"$f":"Zadání!P76","v":166},{"$f":"Zadání!Q76","v":4},{"$f":"Zadání!R76","v":543}]
[20,{"$f":"Zadání!M80","v":"Tomáš Vrba"},{"$f":"Zadání!N80","v":"TJ Sokol Pec pod Čerchovem"},{"$f":"Zadání!O80","v":355},{"$f":"Zadání!P80","v":164},{"$f":"Zadání!Q80","v":7},{"$f":"Zadání!R80","v":519}]
[21,{"$f":"Zadání!M84","v":"Roman Pivoňka"},{"$f":"Zadání!N84","v":"TJ Sokol Újezd sv. Kříže"},{"$f":"Zadání!O84","v":372},{"$f":"Zadání!P84","v":149},{"$f":"Zadání!Q84","v":11},{"$f":"Zadání!R84","v":521}]
[22,{"$f":"Zadání!M88","v":"David Grössl"},{"$f":"Zadání!N88","v":"TJ Sokol Zahořany"},{"$f":"Zadání!O88","v":336},{"$f":"Zadání!P88","v":136},{"$f":"Zadání!Q88","v":10},{"$f":"Zadání!R88","v":472}]
[23,{"$f":"Zadání!M92","v":"Bedřich Horka"},{"$f":"Zadání!N92","v":"Kuželky Holýšov"},{"$f":"Zadání!O92","v":342},{"$f":"Zadání!P92","v":184},{"$f":"Zadání!Q92","v":5},{"$f":"Zadání!R92","v":526}]
[24,{"$f":"Zadání!M96","v":"Filip Löffelmann"},{"$f":"Zadání!N96","v":"TJ Sokol Kdyně"},{"$f":"Zadání!O96","v":363},{"$f":"Zadání!P96","v":199},{"$f":"Zadání!Q96","v":2},{"$f":"Zadání!R96","v":562}]
[25,{"$f":"Zadání!M100","v":"Karel Řezníček"},{"$f":"Zadání!N100","v":"TJ Sokol Díly"},{"$f":"Zadání!O100","v":349},{"$f":"Zadání!P100","v":126},{"$f":"Zadání!Q100","v":12},{"$f":"Zadání!R100","v":475}]
[26,{"$f":"Zadání!M104","v":"Tomáš Timura"},{"$f":"Zadání!N104","v":"TJ Sokol Kdyně"},{"$f":"Zadání!O104","v":367},{"$f":"Zadání!P104","v":177},{"$f":"Zadání!Q104","v":4},{"$f":"Zadání!R104","v":544}]
[27,{"$f":"Zadání!M108","v":"Michael Martínek"},{"$f":"Zadání!N108","v":"TJ Sokol Zahořany"},{"$f":"Zadání!O108","v":371},{"$f":"Zadání!P108","v":186},{"$f":"Zadání!Q108","v":5},{"$f":"Zadání!R108","v":557}]
[28,{"$f":"Zadání!M112","v":"Tomáš Lukeš"},{"$f":"Zadání!N112","v":"Kuželky Holýšov"},{"$f":"Zadání!O112","v":335},{"$f":"Zadání!P112","v":163},{"$f":"Zadání!Q112","v":5},{"$f":"Zadání!R112","v":498}]
[29,{"$f":"Zadání!M116","v":"Libor Bureš"},{"$f":"Zadání!N116","v":"SKK Rokycany"},{"$f":"Zadání!O116","v":354},{"$f":"Zadání!P116","v":187},{"$f":"Zadání!Q116","v":5},{"$f":"Zadání!R116","v":541}]
[30,{"$f":"Zadání!M120","v":"Vojtěch Špelina"},{"$f":"Zadání!N120","v":"SKK Rokycany"},{"$f":"Zadání!O120","v":376},{"$f":"Zadání!P120","v":184},{"$f":"Zadání!Q120","v":0},{"$f":"Zadání!R120","v":560}]
[31,{"$f":"Zadání!M124","v":"Michael Kotal"},{"$f":"Zadání!N124","v":"TJ Sokol Zahořany"},{"$f":"Zadání!O124","v":409},{"$f":"Zadání!P124","v":238},{"$f":"Zadání!Q124","v":1},{"$f":"Zadání!R124","v":647}]
[32,{"$f":"Zadání!M128","v":"Milan Svoboda"},{"$f":"Zadání!N128","v":"CB Dobřany"},{"$f":"Zadání!O128","v":381},{"$f":"Zadání!P128","v":228},{"$f":"Zadání!Q128","v":2},{"$f":"Zadání!R128","v":609}]
[33,{"$f":"Zadání!M132","v":0},{"$f":"Zadání!N132","v":0},{"$f":"Zadání!O132","v":0},{"$f":"Zadání!P132","v":0},{"$f":"Zadání!Q132","v":0},{"$f":"Zadání!R132","v":0}]
[34,{"$f":"Zadání!M136","v":0},{"$f":"Zadání!N136","v":0},{"$f":"Zadání!O136","v":0},{"$f":"Zadání!P136","v":0},{"$f":"Zadání!Q136","v":0},{"$f":"Zadání!R136","v":0}]
[35,{"$f":"Zadání!M140","v":0},{"$f":"Zadání!N140","v":0},{"$f":"Zadání!O140","v":0},{"$f":"Zadání!P140","v":0},{"$f":"Zadání!Q140","v":0},{"$f":"Zadání!R140","v":0}]
[36,{"$f":"Zadání!M144","v":0},{"$f":"Zadání!N144","v":0},{"$f":"Zadání!O144","v":0},{"$f":"Zadání!P144","v":0},{"$f":"Zadání!Q144","v":0},{"$f":"Zadání!R144","v":0}]
[37,{"$f":"Zadání!M148","v":0},{"$f":"Zadání!N148","v":0},{"$f":"Zadání!O148","v":0},{"$f":"Zadání!P148","v":0},{"$f":"Zadání!Q148","v":0},{"$f":"Zadání!R148","v":0}]
[38,{"$f":"Zadání!M152","v":0},{"$f":"Zadání!N152","v":0},{"$f":"Zadání!O152","v":0},{"$f":"Zadání!P152","v":0},{"$f":"Zadání!Q152","v":0},{"$f":"Zadání!R152","v":0}]
[39,{"$f":"Zadání!M156","v":0},{"$f":"Zadání!N156","v":0},{"$f":"Zadání!O156","v":0},{"$f":"Zadání!P156","v":0},{"$f":"Zadání!Q156","v":0},{"$f":"Zadání!R156","v":0}]
[40,{"$f":"Zadání!M160","v":0},{"$f":"Zadání!N160","v":0},{"$f":"Zadání!O160","v":0},{"$f":"Zadání!P160","v":0},{"$f":"Zadání!Q160","v":0},{"$f":"Zadání!R160","v":0}]
[41,{"$f":"Zadání!M164","v":0},{"$f":"Zadání!N164","v":0},{"$f":"Zadání!O164","v":0},{"$f":"Zadání!P164","v":0},{"$f":"Zadání!Q164","v":0},{"$f":"Zadání!R164","v":0}]
[42,{"$f":"Zadání!M168","v":0},{"$f":"Zadání!N168","v":0},{"$f":"Zadání!O168","v":0},{"$f":"Zadání!P168","v":0},{"$f":"Zadání!Q168","v":0},{"$f":"Zadání!R168","v":0}]
[43,{"$f":"Zadání!M172","v":0},{"$f":"Zadání!N172","v":0},{"$f":"Zadání!O172","v":0},{"$f":"Zadání!P172","v":0},{"$f":"Zadání!Q172","v":0},{"$f":"Zadání!R172","v":0}]
[44,{"$f":"Zadání!M176","v":0},{"$f":"Zadání!N176","v":0},{"$f":"Zadání!O176","v":0},{"$f":"Zadání!P176","v":0},{"$f":"Zadání!Q176","v":0},{"$f":"Zadání!R176","v":0}]
[45,{"$f":"Zadání!M180","v":0},{"$f":"Zadání!N180","v":0},{"$f":"Zadání!O180","v":0},{"$f":"Zadání!P180","v":0},{"$f":"Zadání!Q180","v":0},{"$f":"Zadání!R180","v":0}]
[46,{"$f":"Zadání!M184","v":0},{"$f":"Zadání!N184","v":0},{"$f":"Zadání!O184","v":0},{"$f":"Zadání!P184","v":0},{"$f":"Zadání!Q184","v":0},{"$f":"Zadání!R184","v":0}]
[47,{"$f":"Zadání!M188","v":0},{"$f":"Zadání!N188","v":0},{"$f":"Zadání!O188","v":0},{"$f":"Zadání!P188","v":0},{"$f":"Zadání!Q188","v":0},{"$f":"Zadání!R188","v":0}]
[48,{"$f":"Zadání!M192","v":0},{"$f":"Zadání!N192","v":0},{"$f":"Zadání!O192","v":0},{"$f":"Zadání!P192","v":0},{"$f":"Zadání!Q192","v":0},{"$f":"Zadání!R192","v":0}]
[]
[]
[1,{"$f":"Zadání!M290","v":0},{"$f":"Zadání!N290","v":0},{"$f":"Zadání!O290","v":0},{"$f":"Zadání!P290","v":0},{"$f":"Zadání!Q290","v":0},{"$f":"Zadání!R290","v":0}]
[2,{"$f":"Zadání!M286","v":0},{"$f":"Zadání!N286","v":0},{"$f":"Zadání!O286","v":0},{"$f":"Zadání!P286","v":0},{"$f":"Zadání!Q286","v":0},{"$f":"Zadání!R286","v":0}]
[3,{"$f":"Zadání!M282","v":0},{"$f":"Zadání!N282","v":0},{"$f":"Zadání!O282","v":0},{"$f":"Zadání!P282","v":0},{"$f":"Zadání!Q282","v":0},{"$f":"Zadání!R282","v":0}]
[4,{"$f":"Zadání!M278","v":0},{"$f":"Zadání!N278","v":0},{"$f":"Zadání!O278","v":0},{"$f":"Zadání!P278","v":0},{"$f":"Zadání!Q278","v":0},{"$f":"Zadání!R278","v":0}]
[5,{"$f":"Zadání!M274","v":0},{"$f":"Zadání!N274","v":0},{"$f":"Zadání!O274","v":0},{"$f":"Zadání!P274","v":0},{"$f":"Zadání!Q274","v":0},{"$f":"Zadání!R274","v":0}]
[6,{"$f":"Zadání!M270","v":0},{"$f":"Zadání!N270","v":0},{"$f":"Zadání!O270","v":0},{"$f":"Zadání!P270","v":0},{"$f":"Zadání!Q270","v":0},{"$f":"Zadání!R270","v":0}]
[7,{"$f":"Zadání!M266","v":0},{"$f":"Zadání!N266","v":0},{"$f":"Zadání!O266","v":0},{"$f":"Zadání!P266","v":0},{"$f":"Zadání!Q266","v":0},{"$f":"Zadání!R266","v":0}]
[8,{"$f":"Zadání!M262","v":0},{"$f":"Zadání!N262","v":0},{"$f":"Zadání!O262","v":0},{"$f":"Zadání!P262","v":0},{"$f":"Zadání!Q262","v":0},{"$f":"Zadání!R262","v":0}]
[9,{"$f":"Zadání!M258","v":"Michael Kotal"},{"$f":"Zadání!N258","v":"TJ Sokol Zahořany"},{"$f":"Zadání!O258","v":0},{"$f":"Zadání!P258","v":0},{"$f":"Zadání!Q258","v":0},{"$f":"Zadání!R258","v":0}]
[10,{"$f":"Zadání!M254","v":"Milan Svoboda"},{"$f":"Zadání!N254","v":"CB Dobřany"},{"$f":"Zadání!O254","v":0},{"$f":"Zadání!P254","v":0},{"$f":"Zadání!Q254","v":0},{"$f":"Zadání!R254","v":0}]
[11,{"$f":"Zadání!M250","v":"Milan Wagner"},{"$f":"Zadání!N250","v":"TJ Sokol Plzeň V"},{"$f":"Zadání!O250","v":0},{"$f":"Zadání!P250","v":0},{"$f":"Zadání!Q250","v":0},{"$f":"Zadání!R250","v":0}]
[12,{"$f":"Zadání!M246","v":"Jiří Baloun"},{"$f":"Zadání!N246","v":"CB Dobřany"},{"$f":"Zadání!O246","v":0},{"$f":"Zadání!P246","v":0},{"$f":"Zadání!Q246","v":0},{"$f":"Zadání!R246","v":0}]
[13,{"$f":"Zadání!M242","v":"Jaroslav Pejsar"},{"$f":"Zadání!N242","v":"TJ Sokol Plzeň V"},{"$f":"Zadání!O242","v":0},{"$f":"Zadání!P242","v":0},{"$f":"Zadání!Q242","v":0},{"$f":"Zadání!R242","v":0}]
[14,{"$f":"Zadání!M238","v":"Filip Löffelmann"},{"$f":"Zadání!N238","v":"TJ Sokol Kdyně"},{"$f":"Zadání!O238","v":0},{"$f":"Zadání!P238","v":0},{"$f":"Zadání!Q238","v":0},{"$f":"Zadání!R238","v":0}]
[15,{"$f":"Zadání!M234","v":"Vojtěch Špelina"},{"$f":"Zadání!N234","v":"SKK Rokycany"},{"$f":"Zadání!O234","v":0},{"$f":"Zadání!P234","v":0},{"$f":"Zadání!Q234","v":0},{"$f":"Zadání!R234","v":0}]
[16,{"$f":"Zadání!M230","v":"Roman Pytlík"},{"$f":"Zadání!N230","v":"SKK Rokycany"},{"$f":"Zadání!O230","v":0},{"$f":"Zadání!P230","v":0},{"$f":"Zadání!Q230","v":0},{"$f":"Zadání!R230","v":0}]
[17,{"$f":"Zadání!M226","v":"Michael Martínek"},{"$f":"Zadání!N226","v":"TJ Sokol Zahořany"},{"$f":"Zadání!O226","v":0},{"$f":"Zadání!P226","v":0},{"$f":"Zadání!Q226","v":0},{"$f":"Zadání!R226","v":0}]
[18,{"$f":"Zadání!M222","v":"Michal Šneberger"},{"$f":"Zadání!N222","v":"CB Dobřany"},{"$f":"Zadání!O222","v":0},{"$f":"Zadání!P222","v":0},{"$f":"Zadání!Q222","v":0},{"$f":"Zadání!R222","v":0}]
[19,{"$f":"Zadání!M218","v":"Jan Vacikar"},{"$f":"Zadání!N218","v":"SK Škoda VS Plzeň"},{"$f":"Zadání!O218","v":0},{"$f":"Zadání!P218","v":0},{"$f":"Zadání!Q218","v":0},{"$f":"Zadání!R218","v":0}]
[20,{"$f":"Zadání!M214","v":"Michal Novosad"},{"$f":"Zadání!N214","v":"TJ Slavoj Plzeň"},{"$f":"Zadání!O214","v":0},{"$f":"Zadání!P214","v":0},{"$f":"Zadání!Q214","v":0},{"$f":"Zadání!R214","v":0}]
[21,{"$f":"Zadání!M210","v":"Roman Drugda"},{"$f":"Zadání!N210","v":"TJ Slavoj Plzeň"},{"$f":"Zadání!O210","v":0},{"$f":"Zadání!P210","v":0},{"$f":"Zadání!Q210","v":0},{"$f":"Zadání!R210","v":0}]
[22,{"$f":"Zadání!M206","v":"Miloš Černohorský"},{"$f":"Zadání!N206","v":"SK Škoda VS Plzeň"},{"$f":"Zadání!O206","v":0},{"$f":"Zadání!P206","v":0},{"$f":"Zadání!Q206","v":0},{"$f":"Zadání!R206","v":0}]
[23,{"$f":"Zadání!M202","v":"Tomáš Timura"},{"$f":"Zadání!N202","v":"TJ Sokol Kdyně"},{"$f":"Zadání!O202","v":0},{"$f":"Zadání!P202","v":0},{"$f":"Zadání!Q202","v":0},{"$f":"Zadání!R202","v":0}]
[24,{"$f":"Zadání!M198","v":"Václav Loukotka"},{"$f":"Zadání!N198","v":"TJ Slavoj Plzeň"},{"$f":"Zadání!O198","v":0},{"$f":"Zadání!P198","v":0},{"$f":"Zadání!Q198","v":0},{"$f":"Zadání!R198","v":0}]
{"$rows_empty":24}
[1]
[2]
[3]
[4]
[5]
[6]
[7]
[8]
[9]
[10]
[11]
[12]
[13]
[14]
[15]
[16]
[17]
[18]
[19]
[20]
[21]
[22]
[23]
[24]

{"sheet":"Prezence","index":3,"n_rows":49,"n_cols":7,"rows_kept":49}
[null,"Počet hráčů:",{"$f":"COUNTA(E2:E49)","v":32}]
[1,"Roman Pytlík","SKK Rokycany",null,"_",null,"Návod"]
[2,"Michal Šneberger","CB Dobřany",null,"_",null,"!!! Pro práci se souborem je nutné mít povolená makra"]
[3,"Roman Drugda","TJ Slavoj Plzeň",null,"_",null,"Na listu Prezence se uvedou jména hráčů a oddíl - vhodné udělat předem dle přihlášek z krajů"]
[4,"Jan Valdman","TJ Sokol Plzeň V",null,"_",null,"B - Jméno, C - Oddíl, D - kraj+číslo"]
[5,"Petr Fara","SKK Rokycany",null,"_",null,"Přítomné označ křížkem ve sloupci E - lze použít pro kontrolu prezence"]
[6,"Roman Janota","TJ Přeštice",null,"_",null,"- z listu Prezence se jména přenáší automaticky na list Zadání"]
[7,"Jakub Solfronk","TJ Dobřany",null,"_",null,"Na listu Zadání se zadávají výkony po třicítkách, vždy zde vyplňuj jen žlutá pole"]
[8,"Jan Myslík","Kuželky Holýšov",null,"_",null,"Na listu Výstup se shromažďují všechna podstatná data"]
[9,"Jan Vacikar","SK Škoda VS Plzeň",null,"_",null,"- při kvalifikaci se vše kopíruje a řadí stiskem tlačítka Kvalifikace"]
[10,"Zdeněk Eichler","CB Dobřany",null,"_",null,"- obdobně při finále stiskem tlačítka Finále"]
[11,"Michal Novosad","TJ Slavoj Plzeň",null,"_",null,"POZOR - po ukončení kvalifikace stiskni tlačítko Přenos - jen jednou, během finále už toto tlačítko nepoužívej !!"]
[12,"Josef Fišer ml.","CB Dobřany",null,"_",null,"(tím se přenesou jména finalistů do Zadání a lze zadávat výkony)"]
[13,"Michal Lohr","TJ Dobřany",null,"_"]
[14,"Jiří Baloun","CB Dobřany",null,"_",null,"Poznámka - na list Výstup se kopírují jen \"tvrdá\" data a vše se po každém bloku hráček"]
[15,"Jaromír Kotas","TJ Slavoj Plzeň",null,"_",null,"znovu přepisuje a řadí tím je zabezpečeno, že se data neztratí"]
[16,"Jaroslav Pejsar","TJ Sokol Plzeň V",null,"_",null,"Data se vyplňují pouze na listech Zadání a Prezence, v žádném případě nemodifikuj list Export"]
[17,"Miloš Černohorský","SK Škoda VS Plzeň",null,"_"]
[18,"Milan Wagner","TJ Sokol Plzeň V",null,"_"]
[19,"Václav Loukotka","TJ Slavoj Plzeň",null,"_"]
[20,"Tomáš Vrba","TJ Sokol Pec pod Čerchovem",null,"_"]
[21,"Roman Pivoňka","TJ Sokol Újezd sv. Kříže",null,"_"]
[22,"David Grössl","TJ Sokol Zahořany",null,"_"]
[23,"Bedřich Horka","Kuželky Holýšov",null,"_"]
[24,"Filip Löffelmann","TJ Sokol Kdyně",null,"_"]
[25,"Karel Řezníček","TJ Sokol Díly",null,"_"]
[26,"Tomáš Timura","TJ Sokol Kdyně",null,"_"]
[27,"Michael Martínek","TJ Sokol Zahořany",null,"_"]
[28,"Tomáš Lukeš","Kuželky Holýšov",null,"_"]
[29,"Libor Bureš","SKK Rokycany",null,"_"]
[30,"Vojtěch Špelina","SKK Rokycany",null,"_"]
[31,"Michael Kotal","TJ Sokol Zahořany",null,"_"]
[32,"Milan Svoboda","CB Dobřany",null,"_"]
[33]
[34]
[35]
[36]
[37]
[38]
[39]
[40]
[41]
[42]
[43]
[44]
[45]
[46]
[47]
[48]

{"sheet":"Sestava kompatibility","index":4,"n_rows":8,"n_cols":5,"rows_kept":8,"hidden":true}
[null,"Sestava kompatibility pro MČR 2011 Muži.xls"]
[null,"Spustit: 5.5.2011 6:00"]
[]
[null,"Následující funkce sešitu nejsou podporovány nižšími verzemi aplikace Excel. V případě uložení sešitu v nižší verzi formátu souborů může dojít ke ztrátě nebo omezení uvedených funkcí."]
[]
[null,"Nevýznamná ztráta věrnosti",null,null,"Počet výskytů"]
[]
[null,"Některé buňky nebo styly tohoto sešitu obsahují formátování, které není ve vybraném formátu souborů podporováno. Tyto formáty budou převedeny na nejbližší odpovídající formát, který je k dispozici.",null,null,1]